BEGIN:VCALENDAR
VERSION:2.0
PRODID:-//Gospel Agenda - ECPv4.9.13//NONSGML v1.0//EN
CALSCALE:GREGORIAN
METHOD:PUBLISH
X-ORIGINAL-URL:https://gospelagenda.org
X-WR-CALDESC:Events for Gospel Agenda
BEGIN:VTIMEZONE
TZID:Europe/Paris
BEGIN:DAYLIGHT
TZOFFSETFROM:+0100
TZOFFSETTO:+0200
TZNAME:CEST
DTSTART:20190331T010000
END:DAYLIGHT
BEGIN:STANDARD
TZOFFSETFROM:+0200
TZOFFSETTO:+0100
TZNAME:CET
DTSTART:20191027T010000
END:STANDARD
END:VTIMEZONE
BEGIN:VEVENT
DTSTART;TZID=Europe/Paris:20191116T203000
DTEND;TZID=Europe/Paris:20191116T230000
DTSTAMP:20260425T215600
CREATED:20190906T115255Z
LAST-MODIFIED:20190909T114232Z
UID:4356-1573936200-1573945200@gospelagenda.org
SUMMARY:Kezellig! Oudejaarsconference 2019 Scherpenzeel
DESCRIPTION:Kezellig! Oudejaarsconference 2019\nHeeft u in de afgelopen jaren een oudejaarsconference gekeken? Dan is de kans groot dat u heeft gelachen om een grap van Jacob Spoelstra. Hij schrijft namelijk voor meerdere cabaretiers en televisieprogramma’s. Daarnaast treedt hij op in theaters en op grote festivals als Lowlands\, Laughing Matters en zelfs de EO Jongerendag (jawel!). Nu is het tijd voor zijn eigen Oudejaarsconference. \nEen nuchtere kijk op het jaar was nog nooit zo grappig. Met zijn Friese roots heeft Spoelstra een nuchtere kijk op de ongewone dingen in het leven. Of het nu Thierry Baudet\, Doutzen Kroes of droge worst is\, het maakt hem niks uit. Alles en iedereen komt aan de beurt. Een nuchtere kijk op het jaar was nog nooit zo grappig. Kezellig! \nData\n\n28 sept Kulturhus Bornerbroek\n15 nov Tromp Theater Leeuwarden\n16 nov Kulturhus De Breehoek Scherpenzeel\n29 nov Theater CulturA Nootdorp\n6 dec Theater Veluvine Nunspeet\n14 dec De meerpaal Dronten\n19 dec Posttheater Arnhem (OPNAME)\n\nTickets\nKaarten kunnen besteld worden via de website van het evenement. \n
URL:https://gospelagenda.org/evenementen/kezellig-oudejaarsconference-2019-scherpenzeel/
LOCATION:Kulturhuus De Breehoek (Scherpenzeel)\, Marktstraat 59\, Scherpenzeel\, Gelderland\, 3925 JP\, Nederland
CATEGORIES:Anders
ATTACH;FMTTYPE=image/jpeg:https://gospelagenda.org/wp-content/uploads/2019/09/Spoelstra-Play.jpg
ORGANIZER;CN="New%20Faith%20Network":MAILTO:info@newfaithnetwork.com
END:VEVENT
END:VCALENDAR