BEGIN:VCALENDAR
VERSION:2.0
PRODID:-//Gospel Agenda - ECPv4.9.13//NONSGML v1.0//EN
CALSCALE:GREGORIAN
METHOD:PUBLISH
X-ORIGINAL-URL:https://gospelagenda.org
X-WR-CALDESC:Events for Gospel Agenda
BEGIN:VTIMEZONE
TZID:Europe/Paris
BEGIN:DAYLIGHT
TZOFFSETFROM:+0100
TZOFFSETTO:+0200
TZNAME:CEST
DTSTART:20190331T010000
END:DAYLIGHT
BEGIN:STANDARD
TZOFFSETFROM:+0200
TZOFFSETTO:+0100
TZNAME:CET
DTSTART:20191027T010000
END:STANDARD
END:VTIMEZONE
BEGIN:VEVENT
DTSTART;TZID=Europe/Paris:20190613T210000
DTEND;TZID=Europe/Paris:20190616T130000
DTSTAMP:20260425T192649
CREATED:20190213T193352Z
LAST-MODIFIED:20190215T215218Z
UID:1801-1560459600-1560690000@gospelagenda.org
SUMMARY:Karakterweekend Ameland juni 2019
DESCRIPTION:Karakterweekend Ameland\n\n\nDuizenden mannen gingen je voor in de levensverrijkende ervaring van een 4e Musketier Karakterweekend. Vriendschappen zijn verdiept\, harten gereinigd\, relaties hersteld. We zien uit naar een nieuw weekend\, van 13-16 juni\, op AMELAND\, buiten\, in de woeste natuurelementen\, als mannen onder elkaar. Vier dagen lang zul je in teams van acht tot tien personen de strijd aangaan met de elementen\, jezelf en God. En uiteindelijk zal er maar Eentje winnen… Tijdens het weekend worden steeds door fysieke ervaringen geestelijke lessen beleefd en geïnternaliseerd. Je zult vele kilometers afleggen\, maar uiteindelijk gaat het om de 30 centimeter tussen hoofd en hart. \nHet 4e Musketier team staat klaar om je een onvergetelijke geestelijke en fysieke reis te laten ervaren\, waarbij je niet alleen verliefd wordt op de natuur\, maar bovenal op God. \n\n\n\n\nAlgemene informatie\n\n\n\nLocatie\nNederland\n\n\nDatum\n13-16 juni 2019\n\n\nPrijs\n€ 199\,00\n\n\nStartdag\n18 mei 2019\n\n\nMaximum deelnemers\n75\n\n\nAanvang\ndo 13 juni 21:00\n\n\nEinde\nzo 16 juni 13:00\n\n\nBijzonder\n\n\n\n\n\n\n\nDe volgende dingen zijn belangrijk om te weten:\n\n\nJe opereert in een team van acht tot tien mannen. Je mag dit team zelf samenstellen\, je mag je ook individueel opgeven\, dan delen wij je in. Ook als je als compleet team wilt deelnemen dient iedere persoon zich afzonderlijk aan te melden via het formulier op de website van de 4e Musketier.\nJe wordt op donderdag 13 juni om 21:00 uur verwacht op een plek in Noord Nederland.\nOp zondag 16 juni 2019 eindigt rond 13.00 uur het centrale programma en kun je de reis naar huis aanvangen.\nDe paklijst voor het weekend vind je op de website van de 4e Musketier.\nIedere deelnemer dient een geldig identiteitsbewijs te hebben.\nDe 4e Musketier heeft een collectieve reisverzekering inclusief annuleringsdekking afgesloten waaronder alle deelnemers verzekerd zijn (voor zover niet elders verzekerd).\nDe terugkomavond is op 28 juni 2019. Reserveer deze avond vast in je agenda. De locatie is in het midden van Nederland\, adres wordt later bekend gemaakt.\nHoud rekening met het annuleringsbeleid van de 4e Musketier:\n\nEen bedrag van 75 euro betaal je altijd.\nBij annulering binnen twee maanden voor de start van het weekend betaal je 50%.\nBij annulering binnen één maand voor de start van het weekend betaal je 100%.\n\n\nVoor dit weekend zijn 75 plaatsen. Deelname geschiedt naar volgorde van inschrijving. Let op: als je met meerdere personen in één team wilt deelnemen\, zorg dan dat alle leden zich tijdig aanmelden. Er worden geen plekken voor teamleden open gehouden.\n\n\n\n\n
URL:https://gospelagenda.org/evenementen/karakterweekend-ameland-juni-2019/
LOCATION:Ameland\, Ameland\, Friesland\, Nederland
CATEGORIES:Anders,Man / Vrouw
ATTACH;FMTTYPE=image/jpeg:https://gospelagenda.org/wp-content/uploads/2019/02/De-4e-Musketier-karakterweekend.jpg
ORGANIZER;CN="De%204e%20Musketier":MAILTO:contact@4m.nl
END:VEVENT
END:VCALENDAR