BEGIN:VCALENDAR
VERSION:2.0
PRODID:-//Gospel Agenda - ECPv4.9.13//NONSGML v1.0//EN
CALSCALE:GREGORIAN
METHOD:PUBLISH
X-ORIGINAL-URL:https://gospelagenda.org
X-WR-CALDESC:Events for Gospel Agenda
BEGIN:VTIMEZONE
TZID:Europe/Helsinki
BEGIN:DAYLIGHT
TZOFFSETFROM:+0200
TZOFFSETTO:+0300
TZNAME:EEST
DTSTART:20190331T010000
END:DAYLIGHT
BEGIN:STANDARD
TZOFFSETFROM:+0300
TZOFFSETTO:+0200
TZNAME:EET
DTSTART:20191027T010000
END:STANDARD
END:VTIMEZONE
BEGIN:VEVENT
DTSTART;TZID=Europe/Helsinki:20191005T200000
DTEND;TZID=Europe/Helsinki:20191005T220000
DTSTAMP:20260425T222337
CREATED:20190915T202958Z
LAST-MODIFIED:20190915T202958Z
UID:4487-1570305600-1570312800@gospelagenda.org
SUMMARY:Jubileumconcert Gospelkoor Rejoice
DESCRIPTION:Jubileumconcert Gospelkoor Rejoice\nDit jaar bestaat Gospelkoor Rejoice 45 jaar en dat wordt groots gevierd met een Gospelconcert op zaterdag 5 oktober. Rejoice wordt alweer enkele jaren geleid door de altijd enthousiaste dirigent Remco Hakkert. Voor dit gospelconcert heeft Rejoice ook zijn 2 andere koren uitgenodigd\, te weten; SIGN uit Epe en Spring uit Voorthuizen. In een avondvullend programma zullen de koren hun mooiste en swingendste liederen ten gehore brengen en natuurlijk zullen de koren ook gezamenlijk optreden. \nHet concert zal plaatsvinden in De Ark te Maarssenbroek om 20.00 uur. De toegangsprijs is €7\,50 en €5\,- voor kinderen tot 12 jaar. De opbrengsten van het concert zullen ten goede komen van Compassion. Daarvoor zal er in de pauze een collecte worden gehouden en er zal een informatie stand aanwezig zijn. \nKaarten\nWilt u dit gospelevent niet missen? Bestel dan nu uw kaarten door een e-mail te sturen naar kaartverkoop@gospelkoorrejoice.nl. Kaarten zijn ook verkrijgbaar bij Annie’s Bloemenwinkel (Stationsstraat 53 te Vleuten). Als het concert nog niet is uitverkocht\, kunt u op de avond zelf ook voor €10\,- kaarten kopen aan de deur\, houd hiervoor onze website in de gaten. \n \nOver Gospelkoor Rejoice\nGospelkoor Rejoice bestaat uit een groep enthousiaste mensen met vooral een gemeenschappelijke passie\, namelijk muziek maken. Al vanaf 1974 wil Gospelkoor Rejoice met deze muziek een boodschap uitdragen\, de boodschap van Gods liefde en blijvend verbond met onze wereld. In de afgelopen 45 jaar is Gospelkoor Rejoice gegroeid tot een koor met een eigen geluid en goede reputatie in de regio en daarbuiten. Rejoice treedt regelmatig op in kerkdiensten\, geeft concerten en gaat zo nu en dan op tournee in binnen- en buitenland om haar muziek zo wijd mogelijk te verspreiden. Gospelkoor Rejoice wordt begeleid door haar eigen band\, bestaande uit drums\, basgitaar en toetsen. Meer informatie over Gospelkoor Rejoice kunt u vinden op onze website! \n \n
URL:https://gospelagenda.org/evenementen/jubileumconcert-gospelkoor-rejoice/
LOCATION:De Ark (Maarssenbroek)\, Duivenkamp 844\, Maarssen\, Utrecht\, 3607 WG\, Nederland
CATEGORIES:Praise & Worship
ATTACH;FMTTYPE=image/jpeg:https://gospelagenda.org/wp-content/uploads/2019/09/Jubileumconcert-Gospelkoor-Rejoice-v2.jpg
ORGANIZER;CN="Gospelkoor%20Rejoice":MAILTO:info@gospelkoorrejoice.nl
END:VEVENT
END:VCALENDAR