BEGIN:VCALENDAR
VERSION:2.0
PRODID:-//Gospel Agenda - ECPv4.9.13//NONSGML v1.0//EN
CALSCALE:GREGORIAN
METHOD:PUBLISH
X-ORIGINAL-URL:https://gospelagenda.org
X-WR-CALDESC:Events for Gospel Agenda
BEGIN:VTIMEZONE
TZID:Europe/Paris
BEGIN:DAYLIGHT
TZOFFSETFROM:+0100
TZOFFSETTO:+0200
TZNAME:CEST
DTSTART:20190331T010000
END:DAYLIGHT
BEGIN:STANDARD
TZOFFSETFROM:+0200
TZOFFSETTO:+0100
TZNAME:CET
DTSTART:20191027T010000
END:STANDARD
END:VTIMEZONE
BEGIN:VEVENT
DTSTART;TZID=Europe/Paris:20190511T130000
DTEND;TZID=Europe/Paris:20190511T170000
DTSTAMP:20260425T222237
CREATED:20190426T061450Z
LAST-MODIFIED:20190426T170703Z
UID:3043-1557579600-1557594000@gospelagenda.org
SUMMARY:JGLM Verkondig en Genees! Amsterdam!
DESCRIPTION:JGLM Verkondig en Genees! Amsterdam!\nWe komen om 13.00 uur samen voor onderwijs\, ontmoeting en gebed aan de Oudezijds Voorburgwal 65 in Amsterdam. Rond 14.00 uur zullen we de straat op gaan om het evangelie te verkondigen en de zieken te genezen. \n
URL:https://gospelagenda.org/evenementen/jglm-verkondig-en-genees-amsterdam/
LOCATION:The Tabernacle (YWAM Amsterdam)\, Oudezijds Voorburgwal 65\, Amsterdam\, Noord-Holland\, 1012EK\, Netherlands
CATEGORIES:Anders,Training
ATTACH;FMTTYPE=image/jpeg:https://gospelagenda.org/wp-content/uploads/2019/04/JGML-Verkondig-en-Genees.jpg
ORGANIZER;CN="JGML%20Benelux":MAILTO:contact@jglm-benelux.org
END:VEVENT
END:VCALENDAR