BEGIN:VCALENDAR
VERSION:2.0
PRODID:-//Gospel Agenda - ECPv4.9.13//NONSGML v1.0//EN
CALSCALE:GREGORIAN
METHOD:PUBLISH
X-ORIGINAL-URL:https://gospelagenda.org
X-WR-CALDESC:Events for Gospel Agenda
BEGIN:VTIMEZONE
TZID:Europe/Paris
BEGIN:DAYLIGHT
TZOFFSETFROM:+0100
TZOFFSETTO:+0200
TZNAME:CEST
DTSTART:20190331T010000
END:DAYLIGHT
BEGIN:STANDARD
TZOFFSETFROM:+0200
TZOFFSETTO:+0100
TZNAME:CET
DTSTART:20191027T010000
END:STANDARD
END:VTIMEZONE
BEGIN:VEVENT
DTSTART;TZID=Europe/Paris:20190321T183000
DTEND;TZID=Europe/Paris:20190324T210000
DTSTAMP:20260425T210724
CREATED:20190308T194744Z
LAST-MODIFIED:20190308T194744Z
UID:2224-1553193000-1553461200@gospelagenda.org
SUMMARY:International Gathering of Eagles 2019
DESCRIPTION:International Gathering of Eagles 2019\nA forum for female Ministers: ‘Evangelist\, Pastors\, Prophets\, Apostles’ and other Ministers and Pastor’s Wives. \nTheme\nUnshakable faith: An oasis in the desert (Isaiah 32:2-3) \nProgramma\n\nThursday 21 March 18.30 hrs Prophetic Revival Night\nFriday 22 March 18.30 hrs Prophetic Revival Night\nSaturday 23 March 11.00 hrs first Session\nSaturday 23 March 12.45 hrs second Session\nSaturday 23 March 14.00 hrs third Session\nSaturday 23 March 15.15 hrs fourth Session\nSaturday 23 March 18.30 hrs Prophetic Evening and Awards Presentation\nSunday 24 March 18.00 hrs Prophetic Anointing and Impartation Service\n\n
URL:https://gospelagenda.org/evenementen/international-gathering-of-eagles-2019/
LOCATION:Good News Ministries International\, Zichtenburglaan 31\, Den Haag\, Zuid-Holland\, 2544 EA\, Netherlands
CATEGORIES:Anders,Conferenties,Man / Vrouw,Ministry,Speciale Diensten
ATTACH;FMTTYPE=image/jpeg:https://gospelagenda.org/wp-content/uploads/2019/03/Ìnternational-Gathering-of-Eagles.jpg
END:VEVENT
END:VCALENDAR