BEGIN:VCALENDAR
VERSION:2.0
PRODID:-//Gospel Agenda - ECPv4.9.13//NONSGML v1.0//EN
CALSCALE:GREGORIAN
METHOD:PUBLISH
X-ORIGINAL-URL:https://gospelagenda.org
X-WR-CALDESC:Events for Gospel Agenda
BEGIN:VTIMEZONE
TZID:Europe/Paris
BEGIN:DAYLIGHT
TZOFFSETFROM:+0100
TZOFFSETTO:+0200
TZNAME:CEST
DTSTART:20160327T010000
END:DAYLIGHT
BEGIN:STANDARD
TZOFFSETFROM:+0200
TZOFFSETTO:+0100
TZNAME:CET
DTSTART:20161030T010000
END:STANDARD
END:VTIMEZONE
BEGIN:VEVENT
DTSTART;TZID=Europe/Paris:20160826T173000
DTEND;TZID=Europe/Paris:20160828T120000
DTSTAMP:20260425T235432
CREATED:20160508T194117Z
LAST-MODIFIED:20160510T201144Z
UID:184-1472232600-1472385600@gospelagenda.org
SUMMARY:Increase Liedschrijverskamp - augustus 2016
DESCRIPTION:Increase Liedschrijverskamp – augustus 2016\nTijdens dit weekend\, nodigen we christelijke schrijvers van samenzang\,- en luisterliedjes uit samen te gaan schrijven en geïnspireerd te worden. \nDit doen we op een prachtige locatie midden in de natuur\, dicht bij Apeldoorn. Inspirerende training\, coaching en tijd van aanbidding worden verzorgd door bekende en ervaren liedschrijvers: \n\nFrank van Essen (liedschrijver\, muzikant en arrangeur)\nAdrian Roest (toetsenist en liedschrijver van “Sela”)\nBen van Essen (singer-songwriter\, producer en geluidstechnicus)\nPeter van Essen (muzikant\, trainer\, spreker en liedschrijver)\n\nEerst inspiratie en instructie ontvangen en dan aan het werk gaan met het schrijven van een lied. Om vervolgens het resultaat te delen en verder uit te werken en uiteindelijk op het podium te laten horen en mogelijk zelfs op te nemen. \nDit alles in een gezellige sfeer met goed verzorgde maaltijden\, kampvuur\, hapjes en drankjes. \nKosten: 160 euro incl. maaltijden en overnachting in 1-2 pers. kamers (excl. €2 reserveringskosten) \n10% early bird korting bij opgave en betaling vóór 1 juli! \n
URL:https://gospelagenda.org/evenementen/increase-liedschrijverskamp-augustus-2016/
LOCATION:Assel Don Bosco Centrum\, Pomphulweg 106\, Hoog Soeren\, Gelderland\, 7346 AN\, Nederland
ATTACH;FMTTYPE=image/jpeg:https://gospelagenda.org/wp-content/uploads/2016/05/Liedschrijverskamp.jpg
ORGANIZER;CN="Events4Christ":MAILTO:info@events4christ.nl
END:VEVENT
END:VCALENDAR