BEGIN:VCALENDAR
VERSION:2.0
PRODID:-//Gospel Agenda - ECPv4.9.13//NONSGML v1.0//EN
CALSCALE:GREGORIAN
METHOD:PUBLISH
X-ORIGINAL-URL:https://gospelagenda.org
X-WR-CALDESC:Events for Gospel Agenda
BEGIN:VTIMEZONE
TZID:Europe/Paris
BEGIN:DAYLIGHT
TZOFFSETFROM:+0100
TZOFFSETTO:+0200
TZNAME:CEST
DTSTART:20190331T010000
END:DAYLIGHT
BEGIN:STANDARD
TZOFFSETFROM:+0200
TZOFFSETTO:+0100
TZNAME:CET
DTSTART:20191027T010000
END:STANDARD
END:VTIMEZONE
BEGIN:VEVENT
DTSTART;TZID=Europe/Paris:20190221T193000
DTEND;TZID=Europe/Paris:20190221T220000
DTSTAMP:20260425T233002
CREATED:20190122T220313Z
LAST-MODIFIED:20190122T220313Z
UID:1425-1550777400-1550786400@gospelagenda.org
SUMMARY:In de voetsporen van Ruth
DESCRIPTION:In de voetsporen van Ruth\n\n\nOp 21 februari 2019 is De Basiliek het decor van een unieke voorstelling: ‘In de voetsporen van Ruth’. De muzikale theatervoorstelling van EO-platform ‘Eva’ vertelt het verhaal van de vrouw die alles achterliet en haar schoonmoeder volgde naar een onbekend land. Het eeuwenoude Bijbelverhaal wordt tot leven gebracht door middel van livemuziek\, videobeelden en het acteerwerk van onder andere Anne Appelo en Jonathan Vroege (bekend van ‘The Lion King’). \n“Het verhaal van Ruth leest als een roman en voelt als een vertelling”\, zegt Bianca Cooper – creative director van de muzikale theatervoorstelling. “Het verhaal nodigt uit om te beleven. En dat gaan we doen: met acteurs\, muzikanten\, video en zang.” \nOp reis\n‘Eva’ nodigt alle geïnteresseerden uit om mee op reis te gaan in de voetsporen van Ruth. Cooper: “Ruths levensverhaal staat boordevol levenslessen. Die willen we met deze voorstelling graag doorgeven. Bijvoorbeeld hoe God een negatieve situatie kan keren in iets positiefs. We hopen dat je het verhaal (her)ontdekt en gaat zien wat het verhaal van Ruth nu voor jou kan betekenen.” \nGetalenteerde musicalacteurs\nOrganisator ‘Eva’ wist enkele bekende\, getalenteerde musicalacteurs aan zich te binden. Zo vertolkt Jonathan Vroege – die te zien is in ‘The Lion King’ en speelde in ‘Joseph and the Amazing Technicolor Dreamcoat’- de rol van Boaz. Het verhaal van Ruth spreekt hem aan: “Als les haal ik daaruit dat ik bij alles wat mij overkomt\, naar God mag kijken en op Hem mag blijven vertrouwen.” Anne Appelo neemt de rol van Ruth voor haar rekening\, Jeannette Coppoolse is te zien als Naomi en Victoria Cooper kruipt in de huid van Orpa. \nBijbelse vrouwen\nDe voorstelling is het slotakkoord van Eva’s jaarthema over Bijbelse vrouwen. De afgelopen maanden liet ‘Eva’ haar lezers en online volgers nader kennismaken met tien Bijbelse vrouwen\, om aan de hand van hun verhalen meer over God te leren. In 2019 staat het thema ‘De Weg naar Vrijheid’ centraal. \nTickets\nDe voorstelling ‘In de voetsporen van Ruth’ is te zien op 21 februari 2019 om 19.30 uur. Tickets zijn verkrijgbaar vanaf €22\,50 per persoon (excl. reserveringskosten) via de website. Wie de voorstelling met het hele gezin wil bezoeken\, kan ook een familyticket bestellen. \n\n\n
URL:https://gospelagenda.org/evenementen/in-de-voetsporen-van-ruth/
LOCATION:De Basiliek (Veenendaal)\, Wiltonstraat 56\, Veenendaal\, Utrecht\, 3905 KW\, Nederland
CATEGORIES:Anders
ATTACH;FMTTYPE=image/png:https://gospelagenda.org/wp-content/uploads/2019/01/In-de-voetsporen-van-Ruth-Eva.png
ORGANIZER;CN="Evangelische%20Omroep%20%28EO%29":MAILTO:eo@eo.nl
END:VEVENT
END:VCALENDAR