BEGIN:VCALENDAR
VERSION:2.0
PRODID:-//Gospel Agenda - ECPv4.9.13//NONSGML v1.0//EN
CALSCALE:GREGORIAN
METHOD:PUBLISH
X-ORIGINAL-URL:https://gospelagenda.org
X-WR-CALDESC:Events for Gospel Agenda
BEGIN:VTIMEZONE
TZID:Europe/Paris
BEGIN:DAYLIGHT
TZOFFSETFROM:+0100
TZOFFSETTO:+0200
TZNAME:CEST
DTSTART:20190331T010000
END:DAYLIGHT
BEGIN:STANDARD
TZOFFSETFROM:+0200
TZOFFSETTO:+0100
TZNAME:CET
DTSTART:20191027T010000
END:STANDARD
END:VTIMEZONE
BEGIN:VEVENT
DTSTART;TZID=Europe/Paris:20190920T180000
DTEND;TZID=Europe/Paris:20190922T153000
DTSTAMP:20260425T192038
CREATED:20190409T192432Z
LAST-MODIFIED:20190409T192921Z
UID:2734-1569002400-1569166200@gospelagenda.org
SUMMARY:Hemeltijd 2019 - Geloof\, Hoop\, Liefde
DESCRIPTION:Hemeltijd 2019 – Geloof\, Hoop\, Liefde\n\nWat is Hemeltijd?\nGod wil ons zó veel geven! Nieuwe moed\, overtuiging\, rust\, vreugde\, verdieping en herstel. Het ontvangen van Zijn licht op jouw leven helpt je om een stukje hemel op aarde te creëren. \nEen weekend lang Hemeltijd\, is tijd om God te ontmoeten en samen op te trekken. Via muziek\, seminars\, workshops\, in stilte en door elkaar. Maar vooral door helemaal los te komen van de dingen van alledag en God Zijn werk te laten doen. Een weekend vol mooie momenten\, in elkaars gezelschap\, waarin je God ook iets van jezelf mag géven. \n\nVoor wie is Hemeltijd?\nHemeltijd is voor iedereen\, jong en oud. We hebben een sterk programma voor maximaal honderd mensen\, met inspirerende sprekers\, veel muziek en creatieve momenten voor wie wil. Samen met mensen die op dezelfde reis zijn. \nJij en God\, God en jij. Een weekend Hemeltijd. \nProgramma\nVrijdag\n18.00 Aankomst en registratie\n19.30 zaal open koffie & thee\n20.00 Hemeltijd: aanbidding met Reni & Elisa Krijgsman\n22.00 101-tijd: stilteruimte voor rust\, gebed en aanbidding \nZaterdag\n08.30 Tafel-tijd (ontbijt)\n09.30 koffie & thee\n10.00 Hemeltijd\n12.30 Tafel-tijd (lunch)\n14.00 Leer-tijd (seminar) \n15.00 pauze met koffie & thee\n15.30 Gaven-tijd (workshops) \n17.30 einde \n18.00 diner\n19.30 koffie & thee \n20.00 Hemeltijd\n22.30 Bonte-tijd: Jamsessie en optredens met en door iedereen \nZondag\n10.30 Deel-tijd: brunch voor alle deelnemers\, tevens delen van getuigenissen\n12.30 einde brunch\n13.00 koffie / thee\n13.30 Hemeltijd\n15.30 einde Hemeltijd \nAanmelden\nMeld je aan via het contactformulier op de website van het evenement. Zie onderstaande gegevens. \n\n\n
URL:https://gospelagenda.org/evenementen/hemeltijd-2019-geloof-hoop-liefde/
LOCATION:De Betteld\, Aaltenseweg 11\, Zelhem\, Gelderland\, 7021 HR\, Nederland
CATEGORIES:Conferenties,Ministry,Praise & Worship,Speciale Diensten
ATTACH;FMTTYPE=image/jpeg:https://gospelagenda.org/wp-content/uploads/2019/04/Hemeltijd-2019-Geloof-Hoop-Liefde.jpg
END:VEVENT
END:VCALENDAR