BEGIN:VCALENDAR
VERSION:2.0
PRODID:-//Gospel Agenda - ECPv4.9.13//NONSGML v1.0//EN
CALSCALE:GREGORIAN
METHOD:PUBLISH
X-ORIGINAL-URL:https://gospelagenda.org
X-WR-CALDESC:Events for Gospel Agenda
BEGIN:VTIMEZONE
TZID:Europe/Paris
BEGIN:DAYLIGHT
TZOFFSETFROM:+0100
TZOFFSETTO:+0200
TZNAME:CEST
DTSTART:20190331T010000
END:DAYLIGHT
BEGIN:STANDARD
TZOFFSETFROM:+0200
TZOFFSETTO:+0100
TZNAME:CET
DTSTART:20191027T010000
END:STANDARD
END:VTIMEZONE
BEGIN:VEVENT
DTSTART;TZID=Europe/Paris:20190621T200000
DTEND;TZID=Europe/Paris:20190621T200000
DTSTAMP:20260426T011452
CREATED:20190513T083103Z
LAST-MODIFIED:20190513T083103Z
UID:3309-1561147200-1561147200@gospelagenda.org
SUMMARY:Heilige Huisjestour - Zevenhoven
DESCRIPTION:Heilige Huisjestour – Dorpskerk Zevenhoven\n– met aanbiddingsleider Hanne de Vries \nIn een gezellige huiskamer met je familie en vrienden God aanbidden? Aanbiddingsleider Hanne de Vries die spreekt en zingt bij de jeugdgroep van je kerk? Dat kan! Hanne de Vries heeft aangekondigd dat zijn succesvolle Heilige Huisjestour opnieuw een vervolg krijgt – en misschien wel bij jou in de buurt! \nTijdens zo’n bijzondere avond zal Hanne muziek maken\, persoonlijke ervaringen en anekdotes delen en is er genoeg ruimte om gezellig een praatje te maken. Natuurlijk zal hij ook wat nieuwe muziek ten gehore brengen. Op de poster hieronder en in zijn touragenda kun je zien waar Hanne naartoe gaat. En heb je interesse om hem in het najaar te boeken voor een huiskamerconcert? Neem dan snel contact op! \nIn 2013 vierde Hanne zijn 10-jarig jubileum als aanbiddingsleider met een huiskamertour door heel Nederland\, waarbij hij onder andere optrad tijdens jeugdavonden en (jubileum)feestjes. In 2017 kwam er een vervolg op deze succesvolle tour. Hij kwam in totaal al in meer dan 50 huiskamers\, hooizolders\, jeugdhonken en zelfs in een discotheek. Annemieke\, die een van de concerten bezocht\, schreef: “Het was zooo gezellig! Dank voor je komst\, je liedjes en waardevolle woorden.” \n
URL:https://gospelagenda.org/evenementen/heilige-huisjestour-zevenhoven/
LOCATION:Dorpskerk (Zevenhoven)\, Dorpsstraat 12\, Zevenhoven\, Zuid-Holland\, 2435 AJ\, Nederland
CATEGORIES:Anders,Praise & Worship
ATTACH;FMTTYPE=image/jpeg:https://gospelagenda.org/wp-content/uploads/2019/05/Heilige-Huisjestour.jpg
ORGANIZER;CN="Hanne%20de%20Vries":MAILTO:hannedevries@gmail.com
END:VEVENT
END:VCALENDAR