BEGIN:VCALENDAR
VERSION:2.0
PRODID:-//Gospel Agenda - ECPv4.9.13//NONSGML v1.0//EN
CALSCALE:GREGORIAN
METHOD:PUBLISH
X-ORIGINAL-URL:https://gospelagenda.org
X-WR-CALDESC:Events for Gospel Agenda
BEGIN:VTIMEZONE
TZID:Europe/Paris
BEGIN:DAYLIGHT
TZOFFSETFROM:+0100
TZOFFSETTO:+0200
TZNAME:CEST
DTSTART:20190331T010000
END:DAYLIGHT
BEGIN:STANDARD
TZOFFSETFROM:+0200
TZOFFSETTO:+0100
TZNAME:CET
DTSTART:20191027T010000
END:STANDARD
END:VTIMEZONE
BEGIN:VEVENT
DTSTART;TZID=Europe/Paris:20190906T193000
DTEND;TZID=Europe/Paris:20190907T223000
DTSTAMP:20260425T210741
CREATED:20190616T213620Z
LAST-MODIFIED:20190616T213620Z
UID:3837-1567798200-1567895400@gospelagenda.org
SUMMARY:Heaven on Earth Conferentie Amersfoort
DESCRIPTION:Heaven on Earth Conferentie Amersfoort\nTwee avonden vol van de kracht van God. De sprekers zijn Martin Koornstra van Royal Mission en Jarno van Dijk (host). \nVrijdagavond zal een avond zijn over de ‘overdracht van zalving’ of ook wel ‘impartatie’ genoemd. We zullen ons richten op de doop in de Heilige Geest en de kracht van God. Tijdens deze avond zal er ook voor iedereen gebeden worden die dat wil ontvangen. Zaterdagavond zal een avond zijn gericht op genezing. We geloven dat God mensen zal aanraken en wonderen en tekenen zullen gebeuren bij het doorbreken van Zijn Koninkrijk in levens van mensen. \nDe aanbidding zal worden geleid door Steve Tebb. Steve is verbonden aan Catch the Fire UK en leidt aanbidding op conferenties over de hele wereld waaronder ook in Toronto Canada. Een krachtige profetische zalving en tegenwoordigheid van God als hij bedient. \nWees welkom en neem mensen mee! Opgave is niet nodig en toegang is gratis. De zaal gaat open om 19.00 uur. U wordt hartelijk ontvangen met koffie en thee.  De diensten beginnen aansluitend om 19.30 uur. \n
URL:https://gospelagenda.org/evenementen/heaven-on-earth-conferentie-amersfoort/
LOCATION:Rafaël Amersfoort\, Kosmonaut 2\, Amersfoort\, Utrecht\, 3824 MK\, Nederland
CATEGORIES:Conferenties
ATTACH;FMTTYPE=image/jpeg:https://gospelagenda.org/wp-content/uploads/2019/06/Heaven-on-Earth-Conferentie-Amersfoort.jpg
ORGANIZER;CN="Jarno%20van%20Dijk%20Ministries":MAILTO:info@jarnovandijk.nl
END:VEVENT
END:VCALENDAR