BEGIN:VCALENDAR
VERSION:2.0
PRODID:-//Gospel Agenda - ECPv4.9.13//NONSGML v1.0//EN
CALSCALE:GREGORIAN
METHOD:PUBLISH
X-ORIGINAL-URL:https://gospelagenda.org
X-WR-CALDESC:Events for Gospel Agenda
BEGIN:VTIMEZONE
TZID:Europe/Paris
BEGIN:DAYLIGHT
TZOFFSETFROM:+0100
TZOFFSETTO:+0200
TZNAME:CEST
DTSTART:20190331T010000
END:DAYLIGHT
BEGIN:STANDARD
TZOFFSETFROM:+0200
TZOFFSETTO:+0100
TZNAME:CET
DTSTART:20191027T010000
END:STANDARD
END:VTIMEZONE
BEGIN:VEVENT
DTSTART;TZID=Europe/Paris:20190622T183000
DTEND;TZID=Europe/Paris:20190622T223000
DTSTAMP:20260425T233100
CREATED:20190606T223707Z
LAST-MODIFIED:20190608T205725Z
UID:3680-1561228200-1561242600@gospelagenda.org
SUMMARY:Harvest Night met David Wagner
DESCRIPTION:Harvest Night met David Wagner\nHarvest time! \nZaterdag 22 juni organiseert GMF een geweldige Harvestnight met David Wagner in Ijsselstein. We zien de impact van deze avonden door het land in samenwerking met lokale gemeenten. Neem mensen mee uit je omgeving die Jezus nog niet kennen\, want wij geloven dat God hen krachtig gaat aanraken. \nMaar u zult de kracht van de Heilige Geest ontvangen\, Die over u komen zal; en u zult Mijn getuigen zijn -Hand.1:8 \nWees er op tijd bij want vol=vol! \nOm 18:30 zijn healingstations geopend. \n
URL:https://gospelagenda.org/evenementen/harvest-night-met-david-wagner/
LOCATION:New Testament Church (IJsselstein)\, Duitslandstraat 9\, IJsselstein\, Utrecht\, 3402 TJ\, Nederland
CATEGORIES:Ministry,Speciale Diensten
ATTACH;FMTTYPE=image/jpeg:https://gospelagenda.org/wp-content/uploads/2019/06/Harvest-Night-met-David-Wagner.jpg
ORGANIZER;CN="Gospel%20Music%20Festival":MAILTO:info@gospelmusicfestival.nl
END:VEVENT
END:VCALENDAR