BEGIN:VCALENDAR
VERSION:2.0
PRODID:-//Gospel Agenda - ECPv4.9.13//NONSGML v1.0//EN
CALSCALE:GREGORIAN
METHOD:PUBLISH
X-ORIGINAL-URL:https://gospelagenda.org
X-WR-CALDESC:Events for Gospel Agenda
BEGIN:VTIMEZONE
TZID:Europe/Paris
BEGIN:DAYLIGHT
TZOFFSETFROM:+0100
TZOFFSETTO:+0200
TZNAME:CEST
DTSTART:20190331T010000
END:DAYLIGHT
BEGIN:STANDARD
TZOFFSETFROM:+0200
TZOFFSETTO:+0100
TZNAME:CET
DTSTART:20191027T010000
END:STANDARD
END:VTIMEZONE
BEGIN:VEVENT
DTSTART;TZID=Europe/Paris:20190414T200000
DTEND;TZID=Europe/Paris:20190414T220000
DTSTAMP:20260425T220814
CREATED:20190404T221123Z
LAST-MODIFIED:20190412T140225Z
UID:2608-1555272000-1555279200@gospelagenda.org
SUMMARY:Gtime YNG met Filemon Peroti
DESCRIPTION:Gtime YNG met Filemon Peroti\nHey! \nWij zijn YNG en op 14 april aanstaande organiseren wij een jeugddienst in Zoetermeer. We willen jullie\, en je hele (jeugdgroep/kerk) hier ook voor uitnodigen! Het lijkt ons super gaaf om samen met andere Christenen onze God te aanbidden en elkaar te bemoedigen en inspireren. Deze avond zal gaan over je identiteit en Filemon Peroti zal spreken\, ook is er een heerlijk stuk aanbidding! \n\nOver Gtime YNG\nWij zijn er voor jou. Wij zijn Young. Gtime YNG van @gtimecitychurch. Twee keer per maand een avond voor jongeren vanaf 17 jaar! Ben je er bij? \n\n  \n
URL:https://gospelagenda.org/evenementen/gtime-yng-met-filemon-peroti/
LOCATION:Gtime City Church\, Baron de Coubertinlaan 6\, Zoetermeer\, Zuid-Holland\, 2719 EL\, Nederland
CATEGORIES:Jeugd,Ministry,Praise & Worship
ATTACH;FMTTYPE=image/png:https://gospelagenda.org/wp-content/uploads/2019/04/Gtime-Young-300x300px.png
END:VEVENT
END:VCALENDAR