BEGIN:VCALENDAR
VERSION:2.0
PRODID:-//Gospel Agenda - ECPv4.9.13//NONSGML v1.0//EN
CALSCALE:GREGORIAN
METHOD:PUBLISH
X-ORIGINAL-URL:https://gospelagenda.org
X-WR-CALDESC:Events for Gospel Agenda
BEGIN:VTIMEZONE
TZID:Europe/Paris
BEGIN:DAYLIGHT
TZOFFSETFROM:+0100
TZOFFSETTO:+0200
TZNAME:CEST
DTSTART:20190331T010000
END:DAYLIGHT
BEGIN:STANDARD
TZOFFSETFROM:+0200
TZOFFSETTO:+0100
TZNAME:CET
DTSTART:20191027T010000
END:STANDARD
END:VTIMEZONE
BEGIN:VEVENT
DTSTART;TZID=Europe/Paris:20190511T193000
DTEND;TZID=Europe/Paris:20190511T213000
DTSTAMP:20260425T235838
CREATED:20190205T224034Z
LAST-MODIFIED:20190205T224114Z
UID:1683-1557603000-1557610200@gospelagenda.org
SUMMARY:Groeien in geloof - Zwaagwesteinde
DESCRIPTION:Groeien in geloof – Zwaagwesteinde\nOp onze Groeien in geloof meetings in Noord Friesland willen we volgelingen van Jezus helpen om gepassioneerde discipelen te worden. Hoe doen we dat? \n\nDoor je te helpen je relatie met Jezus te verdiepen\nDoor je te helpen meer kracht van de Heilige Geest te ervaren\nDoor je te helpen God beter te leren kennen\n\nJe bent van harte welkom om te komen ontdekken en beleven hoe bijzonder het is om kind van God te zijn! \n
URL:https://gospelagenda.org/evenementen/groeien-in-geloof-zwaagwesteinde-2/
LOCATION:De Westereen (Zwaagwesteinde)\, Toerstrjitte 1\, Zwaagwesteinde\, Friesland\, 9271 BP\, Nederland
CATEGORIES:Training
ATTACH;FMTTYPE=image/jpeg:https://gospelagenda.org/wp-content/uploads/2019/02/Groeien-in-geloof-Royal-Mission.jpg
END:VEVENT
END:VCALENDAR