BEGIN:VCALENDAR
VERSION:2.0
PRODID:-//Gospel Agenda - ECPv4.9.13//NONSGML v1.0//EN
CALSCALE:GREGORIAN
METHOD:PUBLISH
X-ORIGINAL-URL:https://gospelagenda.org
X-WR-CALDESC:Events for Gospel Agenda
BEGIN:VTIMEZONE
TZID:Europe/Paris
BEGIN:DAYLIGHT
TZOFFSETFROM:+0100
TZOFFSETTO:+0200
TZNAME:CEST
DTSTART:20190331T010000
END:DAYLIGHT
BEGIN:STANDARD
TZOFFSETFROM:+0200
TZOFFSETTO:+0100
TZNAME:CET
DTSTART:20191027T010000
END:STANDARD
END:VTIMEZONE
BEGIN:VEVENT
DTSTART;TZID=Europe/Paris:20190531T193000
DTEND;TZID=Europe/Paris:20190602T220000
DTSTAMP:20260425T222211
CREATED:20190415T180224Z
LAST-MODIFIED:20190415T180224Z
UID:2846-1559331000-1559512800@gospelagenda.org
SUMMARY:Greater Power Conference 2019
DESCRIPTION:Greater Power Conference 2019\nVan 31 mei tot 2 juni zal de Greater Power Conferentie 2019 van Frontrunners zijn. Deze conferentie draait om grotere kracht van de Heilige Geest in en door je leven. De conferentie bestaat uit krachtige prediking\, bediening en training! Zet de conferentie in je agenda en kom met honger en verwachting. \nSprekers: Tom de Wal\, Martin Koornstra & John v. Wendel de Joode\n31 mei – 2 juni: 3 avonden + 1 middag\nDe toegang van deze conferentie is gratis. \nDe middagsessie is een workshop/training over: profeteren met kracht. Hoe kan je profeteren over mensen en daarbij meteen de kracht van God vrijzetten over je profetie? \nData & Tijden\n\n31 mei 19u30 – 22u00\n1 juni 14u30 – 17u00\n1 juni 19u30 – 22u00\n2 juni 19u30 – 22u00\n\n \n
URL:https://gospelagenda.org/evenementen/greater-power-conference-2019/
LOCATION:Bolstrastraat (Werkendam)\, Bolstrastraat 8\, Werkendam\, Noord-Brabant\, 4251 LK\, Netherlands
CATEGORIES:Conferenties,Leiderschap,Ministry,Training
ATTACH;FMTTYPE=image/jpeg:https://gospelagenda.org/wp-content/uploads/2019/04/Greater-Power-Conference.jpg
ORGANIZER;CN="Frontrunners%20Ministries":MAILTO:info@frontrunnersministries.nl
END:VEVENT
END:VCALENDAR