BEGIN:VCALENDAR
VERSION:2.0
PRODID:-//Gospel Agenda - ECPv4.9.13//NONSGML v1.0//EN
CALSCALE:GREGORIAN
METHOD:PUBLISH
X-ORIGINAL-URL:https://gospelagenda.org
X-WR-CALDESC:Events for Gospel Agenda
BEGIN:VTIMEZONE
TZID:Europe/Paris
BEGIN:DAYLIGHT
TZOFFSETFROM:+0100
TZOFFSETTO:+0200
TZNAME:CEST
DTSTART:20160327T010000
END:DAYLIGHT
BEGIN:STANDARD
TZOFFSETFROM:+0200
TZOFFSETTO:+0100
TZNAME:CET
DTSTART:20161030T010000
END:STANDARD
END:VTIMEZONE
BEGIN:VEVENT
DTSTART;TZID=Europe/Paris:20160527T190000
DTEND;TZID=Europe/Paris:20160527T210000
DTSTAMP:20260426T011323
CREATED:20160507T210957Z
LAST-MODIFIED:20160508T185742Z
UID:150-1464375600-1464382800@gospelagenda.org
SUMMARY:Gospel Extravaganza "Let's Give It Up" #1
DESCRIPTION:Gospel Extravaganza “Let’s Give It Up”\nMUSH Music in combinatie met R.S.M Ministries presenteert ” Let’s Give It Up ” GOSPEL EXTRAVAGANZA \, Live in 2 steden \nMet krachtige optredens van o.a.: \n\nIntegrity artiest “Noel Robinson” uit Engeland\nUrban Gospel artiest “Kevin Gray” uit Amerika\nX-Factor Uk finalist “Jennifer Phillips” uit Engeland\n\nBegeleid door Leo Davelaar & G – Project Singers en Zijn Levieten Band \nDIT WIL JE NIET MISSEN \nData en locaties: \n\nFriday 27th May – “R.S.M Ministires“\, Van Gijnstraat 27 2288GB\, Rijswijk\nSaturday 28th May – “Christen Gemeente Hermon”\, Baltesakker 13\, 5625 TC\, Eindhoven\n\nTickets kosten per dag €15\, alleen verkrijgbaar via www.events4christ.nl (exclusief € 2 reserveringskosten) \nLet’s make the sound of gospel great in the Netherlands \n\n\n\n\nNoel Robinson – Freedom (LIVE) : Outrageous Love\n\n\nJennifer Phillips risks Mary Mary’s Shackles | Auditions Week 1 | The X Factor UK 2015 \n\n\n2014 (new) Kim Burrell\, KEVIN Gray\, ANAYSHA & Nikki Ross \n\n\n\n
URL:https://gospelagenda.org/evenementen/gospel-extravaganza-lets-give-it-up-1/
LOCATION:R.S.M Ministries\, Van Gijnstraat 27\, Rijswijk\, Zuid-Holland\, 2288 GB\, Nederland
ATTACH;FMTTYPE=image/jpeg:https://gospelagenda.org/wp-content/uploads/2016/05/Lets-Give-It-Up.jpg
ORGANIZER;CN="Mush%20Music%20Services":MAILTO:precious@mushmusicservices.com
END:VEVENT
END:VCALENDAR