BEGIN:VCALENDAR
VERSION:2.0
PRODID:-//Gospel Agenda - ECPv4.9.13//NONSGML v1.0//EN
CALSCALE:GREGORIAN
METHOD:PUBLISH
X-ORIGINAL-URL:https://gospelagenda.org
X-WR-CALDESC:Events for Gospel Agenda
BEGIN:VTIMEZONE
TZID:Europe/Paris
BEGIN:DAYLIGHT
TZOFFSETFROM:+0100
TZOFFSETTO:+0200
TZNAME:CEST
DTSTART:20190331T010000
END:DAYLIGHT
BEGIN:STANDARD
TZOFFSETFROM:+0200
TZOFFSETTO:+0100
TZNAME:CET
DTSTART:20191027T010000
END:STANDARD
END:VTIMEZONE
BEGIN:VEVENT
DTSTART;TZID=Europe/Paris:20190820T184500
DTEND;TZID=Europe/Paris:20190820T204500
DTSTAMP:20260425T220140
CREATED:20190809T064609Z
LAST-MODIFIED:20190809T070601Z
UID:4211-1566326700-1566333900@gospelagenda.org
SUMMARY:God bless the broken Road - Amersfoort
DESCRIPTION:\n\n\nFilm ‘God bless the broken road’ (bioscoop-vertoning)\n\n\n\nJonge moeder Amber verliest haar man in de strijd in Afghanistan. Dit betekent dat ze hun dochter alleen moet opvoeden en dat is niet altijd makkelijk. Wanneer ze coureur Cody ontmoet krijgt haar leven weer een positieve wending. Stap voor stap vindt ze haar geloof terug. \nGenre: Drama\, Romantiek\, Familie\nRegisseur: Harold Cronk (regisseur van God’s not dead I&II)\nActeurs: Matthew Derek Davis\, Arthur Cartwright\, Adam Agee\nDuur: 111 minuten exclusief trailers (geen pauze)\nTaal: Engels met NL ondertiteling \n\n\n\n\n\n\nTickets\n\n20/08  Amersfoort\, Theater de Lieve Vrouw 18:45\n20/08  Kampen\, MU Bioscopen 19:00\n21/08  Alblasserdam\, Landvast Cultureel Centrum 20:30\n22/08  Wageningen\, Heerenstraat Theater 21:00\n22/08  Drachten\, De Lawei 21:00\n\n\n\nNew Faith Network\nNew Faith Network (NFN) is een interactief online platform dat een brug slaat tussen geloof en het dagelijkse leven. \n  \n\n\n\n \nKijk onbeperkt christelijke films. Nederlands grootste christelijke filmaanbod: \n\nOnbeperkt christelijke films en series kijken\nEen veilige omgeving voor het het hele gezin\nBeschikbaar op alle apparaten\n\n
URL:https://gospelagenda.org/evenementen/god-bless-the-broken-road-amersfoort/
LOCATION:Theather de Lieve Vrouw (Amersfoort)\, Lieve Vrouwestraat 13\, Amersfoort\, Utrecht\, 3811 BP\, Nederland
CATEGORIES:Anders
ATTACH;FMTTYPE=image/jpeg:https://gospelagenda.org/wp-content/uploads/2019/08/God-bless-the-broken-road.jpg
ORGANIZER;CN="New%20Faith%20Network":MAILTO:info@newfaithnetwork.com
END:VEVENT
END:VCALENDAR