BEGIN:VCALENDAR
VERSION:2.0
PRODID:-//Gospel Agenda - ECPv4.9.13//NONSGML v1.0//EN
CALSCALE:GREGORIAN
METHOD:PUBLISH
X-ORIGINAL-URL:https://gospelagenda.org
X-WR-CALDESC:Events for Gospel Agenda
BEGIN:VTIMEZONE
TZID:Europe/Paris
BEGIN:DAYLIGHT
TZOFFSETFROM:+0100
TZOFFSETTO:+0200
TZNAME:CEST
DTSTART:20190331T010000
END:DAYLIGHT
BEGIN:STANDARD
TZOFFSETFROM:+0200
TZOFFSETTO:+0100
TZNAME:CET
DTSTART:20191027T010000
END:STANDARD
END:VTIMEZONE
BEGIN:VEVENT
DTSTART;TZID=Europe/Paris:20191101T190000
DTEND;TZID=Europe/Paris:20191103T150000
DTSTAMP:20260425T215442
CREATED:20190809T143456Z
LAST-MODIFIED:20190809T143456Z
UID:4239-1572634800-1572793200@gospelagenda.org
SUMMARY:Frontiers Kennismakingsweekend
DESCRIPTION:Frontiers Kennismakingsweekend\nKom naar het kennismakingsweekend van Frontiers om meer te ontdekken\, te leren en te delen over Gods hart voor de onbereikte volken en Zijn met plan met jouw leven! \nFrontiers nodigt jou uit!\nEen weekend lang met andere christenen nadenken over Gods plan voor jou\, Zijn hart voor de moslimwereld – en wat die twee met elkaar te maken kunnen hebben. Ervaren pioniers delen hun passie en belevenissen met God. Studies\, actie en gezelligheid wisselen elkaar af. \n* Ben jij erbij? \n
URL:https://gospelagenda.org/evenementen/frontiers-kennismakingsweekend/
CATEGORIES:Anders,Ministry
ATTACH;FMTTYPE=image/jpeg:https://gospelagenda.org/wp-content/uploads/2019/08/Frontiers-Kennismakingsweekend.jpg
ORGANIZER;CN="Frontiers":MAILTO:info@frontiers.nl
END:VEVENT
END:VCALENDAR