BEGIN:VCALENDAR
VERSION:2.0
PRODID:-//Gospel Agenda - ECPv4.9.13//NONSGML v1.0//EN
CALSCALE:GREGORIAN
METHOD:PUBLISH
X-ORIGINAL-URL:https://gospelagenda.org
X-WR-CALDESC:Events for Gospel Agenda
BEGIN:VTIMEZONE
TZID:Europe/Paris
BEGIN:DAYLIGHT
TZOFFSETFROM:+0100
TZOFFSETTO:+0200
TZNAME:CEST
DTSTART:20160327T010000
END:DAYLIGHT
BEGIN:STANDARD
TZOFFSETFROM:+0200
TZOFFSETTO:+0100
TZNAME:CET
DTSTART:20161030T010000
END:STANDARD
END:VTIMEZONE
BEGIN:VEVENT
DTSTART;TZID=Europe/Paris:20160521T093000
DTEND;TZID=Europe/Paris:20160521T170000
DTSTAMP:20260426T011437
CREATED:20160512T061450Z
LAST-MODIFIED:20160512T062301Z
UID:368-1463823000-1463850000@gospelagenda.org
SUMMARY:Family Sport Festival
DESCRIPTION:Family Sport Festival\nNew Song Den Haag \nNew Song Den Haag nodigt je uit voor onze “Family Sport Festival”. Kom en geniet van de wedstrijden met je familie en vrienden. Heb je een vrienden of familie team van voetbal\, basketbal of volleybal? Dan is dit je kans om te bewijzen hoe goed je bent in je sport. \nDe Sportdag wordt gehouden op 21 mei aan staande en de wedstrijden beginnen om 10 uur in de ochtend. Een heerlijke\, sportieve en gezellige sportdag voor je familie of vriendengroep. \nRegistratie\nOm je in te schrijven bel: 06 17 50 87 11 \n
URL:https://gospelagenda.org/evenementen/family-sport-festival/
LOCATION:New Song Den Haag\, Withuysstraat 4-Z\, 2523 GW\, Zuid-Holland\, 2523 GW\, Nederland
ATTACH;FMTTYPE=image/jpeg:https://gospelagenda.org/wp-content/uploads/2016/05/160521-New-Song-Den-Haag-Family-Sport-Festival.jpg
END:VEVENT
END:VCALENDAR