BEGIN:VCALENDAR
VERSION:2.0
PRODID:-//Gospel Agenda - ECPv4.9.13//NONSGML v1.0//EN
CALSCALE:GREGORIAN
METHOD:PUBLISH
X-ORIGINAL-URL:https://gospelagenda.org
X-WR-CALDESC:Events for Gospel Agenda
BEGIN:VTIMEZONE
TZID:Europe/Paris
BEGIN:DAYLIGHT
TZOFFSETFROM:+0100
TZOFFSETTO:+0200
TZNAME:CEST
DTSTART:20190331T010000
END:DAYLIGHT
BEGIN:STANDARD
TZOFFSETFROM:+0200
TZOFFSETTO:+0100
TZNAME:CET
DTSTART:20191027T010000
END:STANDARD
END:VTIMEZONE
BEGIN:VEVENT
DTSTART;TZID=Europe/Paris:20190504T100000
DTEND;TZID=Europe/Paris:20190504T143000
DTSTAMP:20260425T222217
CREATED:20190428T212913Z
LAST-MODIFIED:20190428T212913Z
UID:3086-1556964000-1556980200@gospelagenda.org
SUMMARY:Ervaar & Leer: Messy Church
DESCRIPTION:Ervaar & Leer: Messy Church\nOp zoek naar een creatief idee om alle leeftijden te betrekken in de samenkomst? Benieuwd naar hoe je met jong en oud samen een Bijbelverhaal tot leven kan brengen? Nieuwsgierig naar de achtergrond van het Engelse concept Messy Church? Dan is deze dag voor jou! \nEen tijdje geleden maakten we als EJV kennis met Wim & Sandra. Wim & Sandra zijn de bezielers van Messy Church in België. Maandelijks zetten zij deze gezinsdiensten op poten met als grote doel om mensen van alle leeftijden te bereiken en te verbinden. Door te boren\, kloppen\, kliederen en schilderen gaan ze daar op zoek naar de betekenis van een Bijbelverhaal. Wij maakten het één keer mee en waren helemaal verkocht. \nDeze Ervaar & Leerdag is voor kinderwerkers\, ouders en gemeenteleiders die toe zijn aan frisse ideeën om alle leeftijden in de kerk te verbinden. We nodigen je uit om een ochtend te proeven van wat Messy Church is. Daarna genieten we samen van een lekkere maaltijd en delen we de achterliggende pedagogische & theologische gedachten achter deze methode. Extra leuk? Je kinderen kan je gewoon meenemen\, dat is tenslotte het doel van Messy Church: mensen verbinden. \nProgramma\n10.00 Start Messy Church Ervaring\n12.00 Maaltijd\n13.00 De theorie achter Messy Church // Spelletjes voor de kinderen\n14.30 Einde \n  \nKostprijs\nVolwassenen betalen €5\nKinderen zijn gratis\, maar moeten vergezeld worden van een volwassen begeleider \n  \nKosten en inschrijvetn\nVolwassenen betalen bij aankomst €5\, kinderen zijn gratis maar moeten begeleid worden door een volwassen persoon. Inschrijven is verplicht en kan via beate.verbruggen@ejv.be. Vermeld de namen & leeftijden van iedereen die je meeneemt. \n
URL:https://gospelagenda.org/evenementen/ervaar-leer-messy-church/
LOCATION:School Met De Bijbel De Ark (Kortrijk)\, Kortrijk Bruyningstraat 56a\, Kortrijk\, West-Vlaanderen\, 8500 Kortrijk\, Belgium
CATEGORIES:Anders,Jeugd,Leiderschap,Speciale Diensten,Training
ATTACH;FMTTYPE=image/jpeg:https://gospelagenda.org/wp-content/uploads/2019/04/Ervaar-Leer-Kortrijk.jpg
ORGANIZER;CN="Evangelisch%20Jeugdverbond%20%28EJV%20-%20Belgi%C3%AB%29":MAILTO:info@ejv.be
END:VEVENT
END:VCALENDAR