BEGIN:VCALENDAR
VERSION:2.0
PRODID:-//Gospel Agenda - ECPv4.9.13//NONSGML v1.0//EN
CALSCALE:GREGORIAN
METHOD:PUBLISH
X-ORIGINAL-URL:https://gospelagenda.org
X-WR-CALDESC:Events for Gospel Agenda
BEGIN:VTIMEZONE
TZID:Europe/Paris
BEGIN:DAYLIGHT
TZOFFSETFROM:+0100
TZOFFSETTO:+0200
TZNAME:CEST
DTSTART:20190331T010000
END:DAYLIGHT
BEGIN:STANDARD
TZOFFSETFROM:+0200
TZOFFSETTO:+0100
TZNAME:CET
DTSTART:20191027T010000
END:STANDARD
END:VTIMEZONE
BEGIN:VEVENT
DTSTART;TZID=Europe/Paris:20190518T100000
DTEND;TZID=Europe/Paris:20190518T170000
DTSTAMP:20260425T210109
CREATED:20190502T180717Z
LAST-MODIFIED:20190502T180717Z
UID:3149-1558173600-1558198800@gospelagenda.org
SUMMARY:Drieluik Seminar in één dag
DESCRIPTION:Drieluik Seminar in één dag\nBeleef Jan’s Drieluik in 1 dag! Ook in 2019 houdt Heartlink een aantal Drieluik seminars door het hele land heen. Jan Pool en Walfried Giltjes nemen je mee door de onderwerpen van het Drieluik; Intimiteit\, Identiteit en Autoriteit. Wil je hier ook bij zijn? Geef je dan snel op. \nIntimiteit\, identiteit en autoriteit\nDrieluik seminar met Jan Pool (Stichting Heartlink)\nZaterdag 18 mei geeft De Ark Langedijk in samenwerking met Heartlink een drieluik semiar. Die conferentiedag staan de Bijbelse onderwerpen identiteit\, intimiteit en autoriteit centraal. Jan Pool en Walfried Giltjes nemen ons gedurende de dag mee in deze drie geweldige onderwerpen die jouw relatie met God en geloofsleven versterken. \nOver Jan Pool\nKenmerkend voor Jan Pool is dat hij mensen wil raken en uitdagen om Gods hart te zoeken en achter Jezus aan te gaan. Dat doet hij als spreker\, mentor en schrijver. Jan valt op door zijn eerlijkheid en hoe hij zich kwetsbaar durft op te stellen. Jan is ook tot en met 2017 jarenlang voorganger geweest van gemeente Shelter in Haarlem. \nWalfried Giltjes\nVoorganger Shelter Haarlem \nKosten\nEr zijn geen kosten verbonden aan dit seminar\, wel zal er deze dag een offer worden gehouden. \nLunch\nDe lunch wordt verzorgd en gratis aangeboden. \n
URL:https://gospelagenda.org/evenementen/drieluik-seminar-in-een-dag/
LOCATION:Connect078\, Walraven van Hallstraat 2\, Zwijndrecht\, Zuid-Holland\, 3333 BZ\, Nederland
CATEGORIES:Conferenties,Leiderschap,Training
ATTACH;FMTTYPE=image/jpeg:https://gospelagenda.org/wp-content/uploads/2019/05/Drieluik-Seminar-in-één-dag.jpg
ORGANIZER;CN="Connect078":MAILTO:info@connect078.com
END:VEVENT
END:VCALENDAR