BEGIN:VCALENDAR
VERSION:2.0
PRODID:-//Gospel Agenda - ECPv4.9.13//NONSGML v1.0//EN
CALSCALE:GREGORIAN
METHOD:PUBLISH
X-ORIGINAL-URL:https://gospelagenda.org
X-WR-CALDESC:Events for Gospel Agenda
BEGIN:VTIMEZONE
TZID:Europe/Paris
BEGIN:DAYLIGHT
TZOFFSETFROM:+0100
TZOFFSETTO:+0200
TZNAME:CEST
DTSTART:20190331T010000
END:DAYLIGHT
BEGIN:STANDARD
TZOFFSETFROM:+0200
TZOFFSETTO:+0100
TZNAME:CET
DTSTART:20191027T010000
END:STANDARD
END:VTIMEZONE
BEGIN:VEVENT
DTSTART;TZID=Europe/Paris:20190503T200000
DTEND;TZID=Europe/Paris:20190503T220000
DTSTAMP:20260425T220642
CREATED:20190329T194719Z
LAST-MODIFIED:20190329T194719Z
UID:2524-1556913600-1556920800@gospelagenda.org
SUMMARY:Down to Earth
DESCRIPTION:Down to Earth\nWij geloven in de kracht van aanbidding en van gebed. Wij geloven dat de God van de Bijbel vandaag de dag dezelfde wonderen kan doen\, en zelfs grotere\, dan in de tijd van de Bijbel. Tijdens deze avonden willen wij God de ruimte geven om te doen wat Hij wil en met elkaar ontdekken wat zijn plan voor dat moment is. Verder is er tijd voor gebed. Dit wordt verzorgd door het Shelter Herstel team. Je kunt voor gebed komen voor zowel innerlijke genezing als fysieke genezing\, bevrijding en alle andere onderwerpen. \n
URL:https://gospelagenda.org/evenementen/down-to-earth/
LOCATION:Shelter Haarlem\, Eksterlaan 1\, Haarlem\, Noord-Holland\, 2026 XA\, Netherlands
CATEGORIES:Ministry,Praise & Worship
ATTACH;FMTTYPE=image/jpeg:https://gospelagenda.org/wp-content/uploads/2019/03/Down-to-earth.jpg
ORGANIZER;CN="Shelter%20Haarlem":MAILTO:receptie@shelter-haarlem.nl
END:VEVENT
END:VCALENDAR