BEGIN:VCALENDAR
VERSION:2.0
PRODID:-//Gospel Agenda - ECPv4.9.13//NONSGML v1.0//EN
CALSCALE:GREGORIAN
METHOD:PUBLISH
X-ORIGINAL-URL:https://gospelagenda.org
X-WR-CALDESC:Events for Gospel Agenda
BEGIN:VTIMEZONE
TZID:Europe/Paris
BEGIN:DAYLIGHT
TZOFFSETFROM:+0100
TZOFFSETTO:+0200
TZNAME:CEST
DTSTART:20190331T010000
END:DAYLIGHT
BEGIN:STANDARD
TZOFFSETFROM:+0200
TZOFFSETTO:+0100
TZNAME:CET
DTSTART:20191027T010000
END:STANDARD
END:VTIMEZONE
BEGIN:VEVENT
DTSTART;TZID=Europe/Paris:20190201T170000
DTEND;TZID=Europe/Paris:20190203T160000
DTSTAMP:20260426T002138
CREATED:20190111T183647Z
LAST-MODIFIED:20190203T192101Z
UID:1137-1549040400-1549209600@gospelagenda.org
SUMMARY:Discipelschap Evangelisatie Studie weekend Helvoirt
DESCRIPTION:\n\nDiscipelschap Evangelisatie Studie\nDe leerlingen van Jezus werden drie jaar lang gediscipeld\, d.w.z. zij werden onderwezen\, gecoacht en getraind om daadwerkelijk uit te gaan stappen. Jezus zegt ons: ‘Maak discipelen’. Aan die opdracht geeft de D.E. studie gehoor. Je leert te kijken in de spiegel van Gods Woord naar wie je bent\, wat je hebt\, hoe je het leven in overvloed kunt leven dat Jezus je heeft gegeven\, hoe je tussen al de wereldse geluiden Gods stem kunt verstaan en Zijn plan voor jouw leven kunt ontdekken en in je bestemming kan gaan wandelen. \nTopics die tijdens de studie worden behandeld zijn o.a.: eeuwig leven\, relatie met God\, identiteit in Christus\, God is niet schuldig\, Geestvervuld leven. \nPraktisch informatie\nDatum: De studieweekend zal plaatsvinden van vrijdagavond 1 februari t/m zondagmiddag 3 februari 2019. In verband met de opbouw van het weekend wordt van alle deelnemers verwacht dat zij de gehele studie meemaken. \nPlaats: het bezinningscentrum Emmaus in Helvoirt (nabij Den Bosch) zal haar deuren voor ons openen. Voor meer informatie over het centrum\, zie www.emmausbezinningscentrum.nl. \nKosten: Voor het verblijf zijn twee opties: \n– Verblijf op eenvoudige 2- (of evt4-) Persoonskamer met douche en toilet op de gang inclusief maaltijden:€ 175\,- (eenvoudig) \n– Verblijf op luxere 2-persoons kamer met douche en toilet op de kamer\, inclusief maaltijden: € 215\,- (luxere) \nGastheren/-dame: Philip en Erica Dijs & Allart Lok \n\n\n
URL:https://gospelagenda.org/evenementen/discipelschap-evangelisatie-studie-weekend-helvoirt/
LOCATION:RKI Bezinningcentrum Emmaus\, Udenhoutseweg 15\, Helvoirt\, Noord-Brabant\, 5268 CG\, Nederland
CATEGORIES:Training
ATTACH;FMTTYPE=image/jpeg:https://gospelagenda.org/wp-content/uploads/2019/01/Discipelschap.jpg
ORGANIZER;CN="Charis%20Bible%20College":MAILTO:info.nl@awmcharis.vom
END:VEVENT
END:VCALENDAR