BEGIN:VCALENDAR
VERSION:2.0
PRODID:-//Gospel Agenda - ECPv4.9.13//NONSGML v1.0//EN
CALSCALE:GREGORIAN
METHOD:PUBLISH
X-ORIGINAL-URL:https://gospelagenda.org
X-WR-CALDESC:Events for Gospel Agenda
BEGIN:VTIMEZONE
TZID:Europe/Paris
BEGIN:DAYLIGHT
TZOFFSETFROM:+0100
TZOFFSETTO:+0200
TZNAME:CEST
DTSTART:20190331T010000
END:DAYLIGHT
BEGIN:STANDARD
TZOFFSETFROM:+0200
TZOFFSETTO:+0100
TZNAME:CET
DTSTART:20191027T010000
END:STANDARD
END:VTIMEZONE
BEGIN:VEVENT
DTSTART;TZID=Europe/Paris:20190127T190000
DTEND;TZID=Europe/Paris:20190127T210000
DTSTAMP:20260425T205947
CREATED:20190110T221153Z
LAST-MODIFIED:20190110T221153Z
UID:1120-1548615600-1548622800@gospelagenda.org
SUMMARY:Diamonds Night Januari
DESCRIPTION:Diamonds Night Januari\nNaast de jaarlijkse Diamonds Conferentie houdt DoorBrekers Diamonds twee keer per jaar een Diamonds Night. De eerstvolgende Diamonds Night is op zondag 27 januari. Die avond hebben we klinisch psycholoog dr. Robi uit Australië te gast. Hij is wereldwijd een veelgevraagd spreker over onderwerpen zoals psychologie en mentale en emotionele gezondheid. Hij staat ook bekend om zijn heldere en humoristische manier van spreken. \nDiamonds is een plek voor vrouwen van alle leeftijden en achtergronden. We komen samen om de plek in te nemen die God vrouwen geeft en we verlangen ernaar te groeien in connectie met Jezus. Toegang is gratis. \n
URL:https://gospelagenda.org/evenementen/diamonds-night-januari/
LOCATION:Midden Nederland Hallen\, Thorbeckelaan 123\, Barneveld\, Gelderland\, 3771 ED\, Nederland
CATEGORIES:Man / Vrouw
ATTACH;FMTTYPE=image/jpeg:https://gospelagenda.org/wp-content/uploads/2019/01/Diamonds-2019-870x200px.jpg
ORGANIZER;CN="DoorBrekers":MAILTO:info@doorbrekers.nl
END:VEVENT
END:VCALENDAR