BEGIN:VCALENDAR
VERSION:2.0
PRODID:-//Gospel Agenda - ECPv4.9.13//NONSGML v1.0//EN
CALSCALE:GREGORIAN
METHOD:PUBLISH
X-ORIGINAL-URL:https://gospelagenda.org
X-WR-CALDESC:Events for Gospel Agenda
BEGIN:VTIMEZONE
TZID:Europe/Paris
BEGIN:DAYLIGHT
TZOFFSETFROM:+0100
TZOFFSETTO:+0200
TZNAME:CEST
DTSTART:20190331T010000
END:DAYLIGHT
BEGIN:STANDARD
TZOFFSETFROM:+0200
TZOFFSETTO:+0100
TZNAME:CET
DTSTART:20191027T010000
END:STANDARD
END:VTIMEZONE
BEGIN:VEVENT
DTSTART;TZID=Europe/Paris:20190525T123000
DTEND;TZID=Europe/Paris:20190525T153000
DTSTAMP:20260425T210109
CREATED:20190520T061430Z
LAST-MODIFIED:20190520T061430Z
UID:3411-1558787400-1558798200@gospelagenda.org
SUMMARY:Destiny 2019: Unveiling The Scars
DESCRIPTION:Destiny 2019: Unveiling The Scars\nOp 25 mei 2019 om 12:30 uur zal de 4e editie van de vrouwenconferentie “Destiny 2019” doorgaan!\nDe deuren zijn open vanaf 12:00 uur. \nDe sprekers zullen Pastor Guno en Milicent Kluivert\, en gastspreker Pastor Joan Mac-Intosh zijn. \nNeem zeker uw vriendinnen\, moeders\, dochters\, zussen of kennissen mee. Het wordt gezegend! \n
URL:https://gospelagenda.org/evenementen/destiny-2019-unveiling-the-scars/
LOCATION:New Life Enter Church (Neerpelt\, België)\, Stationsstraat 13\, Neerpelt\, Limburg\, 3910\, België
CATEGORIES:Man / Vrouw
ATTACH;FMTTYPE=image/jpeg:https://gospelagenda.org/wp-content/uploads/2019/05/Destiny-2019.jpg
END:VEVENT
END:VCALENDAR