BEGIN:VCALENDAR
VERSION:2.0
PRODID:-//Gospel Agenda - ECPv4.9.13//NONSGML v1.0//EN
CALSCALE:GREGORIAN
METHOD:PUBLISH
X-ORIGINAL-URL:https://gospelagenda.org
X-WR-CALDESC:Events for Gospel Agenda
BEGIN:VTIMEZONE
TZID:Europe/Paris
BEGIN:DAYLIGHT
TZOFFSETFROM:+0100
TZOFFSETTO:+0200
TZNAME:CEST
DTSTART:20190331T010000
END:DAYLIGHT
BEGIN:STANDARD
TZOFFSETFROM:+0200
TZOFFSETTO:+0100
TZNAME:CET
DTSTART:20191027T010000
END:STANDARD
END:VTIMEZONE
BEGIN:VEVENT
DTSTART;TZID=Europe/Paris:20190614T180000
DTEND;TZID=Europe/Paris:20190615T180000
DTSTAMP:20260425T192645
CREATED:20190525T050842Z
LAST-MODIFIED:20190525T050842Z
UID:3480-1560535200-1560621600@gospelagenda.org
SUMMARY:Deborah Rise Up Conference
DESCRIPTION:Deborah Rise Up Conference\nWarm greetings! We warmly welcome you to our first edition of Deborah Rise up Women’s conference. Our theme for this conference is: “Welcome the King of Glory\, Psalms 24:7” \nIt is a great privilege and honor to “Welcome the King of Glory” Jesus Christ into your atmosphere\, your life\, your family\, your career\, your ministry and more… We are delighted to be hosting you on this event\, invite a friend and let us meet and usher in the King of Glory. One day with the King\, Jesus Christ\, and your life will never be the same\, come with great expectation to receive something special from the Lord Jesus Christ. \nWe call you blessed\, \nDeborah Rise Up Team \nSpeaker Line-up\n\nProphetess Bola Sara Adedimeji (Ivory Coast)\nMinister Robyn Vincent (USA)\nDr. Chioma Ibezim (Nigeria)\n\nAbout Deborah Rise Up\nDeborah Rise Up is a community of God-fearing women\, with a mission to bring change. Our passion is to see women arise\, discover their identity in order to impact\, influence and rule. \n
URL:https://gospelagenda.org/evenementen/deborah-rise-up-conference/
LOCATION:Hyatt Place (Amsterdam Airport)\, Rijnlanderweg 800\, Hoofddorp\, Noord-Holland\, 2132 NN\, Nederland
CATEGORIES:Conferenties,Man / Vrouw
ATTACH;FMTTYPE=image/jpeg:https://gospelagenda.org/wp-content/uploads/2019/05/Deborah-Rise-Up.jpg
ORGANIZER;CN="Deborah%20Rise%20Up":MAILTO:deborahriseupconference@gmail.com
END:VEVENT
END:VCALENDAR