BEGIN:VCALENDAR
VERSION:2.0
PRODID:-//Gospel Agenda - ECPv4.9.13//NONSGML v1.0//EN
CALSCALE:GREGORIAN
METHOD:PUBLISH
X-ORIGINAL-URL:https://gospelagenda.org
X-WR-CALDESC:Events for Gospel Agenda
BEGIN:VTIMEZONE
TZID:Europe/Paris
BEGIN:DAYLIGHT
TZOFFSETFROM:+0100
TZOFFSETTO:+0200
TZNAME:CEST
DTSTART:20190331T010000
END:DAYLIGHT
BEGIN:STANDARD
TZOFFSETFROM:+0200
TZOFFSETTO:+0100
TZNAME:CET
DTSTART:20191027T010000
END:STANDARD
END:VTIMEZONE
BEGIN:VEVENT
DTSTART;TZID=Europe/Paris:20190627T200000
DTEND;TZID=Europe/Paris:20190627T220000
DTSTAMP:20260425T233057
CREATED:20190609T211757Z
LAST-MODIFIED:20190609T211757Z
UID:3718-1561665600-1561672800@gospelagenda.org
SUMMARY:De kerk Gods meesterwerk
DESCRIPTION:De kerk Gods meesterwerk\nMet Jan Pool \nOp 27 juni organiseert churchplant Den Helder een seminar van Jan Pool over zijn boek: “De kerk Gods meesterwerk.” \nBij het lezen van de titel De kerk: Gods meesterwerk denk je misschien: Gods meesterwerk? Ik zie vooral een hoeveelheid mensenwerk. De invloed van de kerk neemt alleen maar af en Gods hand is zeker in te ontdekken! \nDe statistieken hebben een somber beeld\, maar de kille cijfers hebben niet het laatste woord. Er is hoop voor de kerk van Nederland! De auteur laat zien dat God het tij zal keren als wij zijn concept voor de lokale kerk weer omarmen. Het antwoord is niet een nieuw kerkmodel\, maar twaalf tijdloze kernwaarden die een kerk springlevend maken. \nGod wil ons land transformeren en zijn ideale instrument voor deze grote verandering is de lokale kerk. Als we terugkeren naar het ontwerp\, dan worden we opnieuw ‘het licht van de wereld’ (Mat.5: 14) dat alle duisternis verdrijft. \nKaarten\nReserveer je kaarten via de website van het evenement. \n
URL:https://gospelagenda.org/evenementen/de-kerk-gods-meesterwerk/
LOCATION:MFC ‘t Buurthuis (Julianadorp)\, Middelzand 3504\, Julianadorp\, Noord-Holland\, 1788 ES\, Nederland
CATEGORIES:Conferenties
ATTACH;FMTTYPE=image/jpeg:https://gospelagenda.org/wp-content/uploads/2019/06/De-Kerk-Gods-Meesterwerk.jpg
END:VEVENT
END:VCALENDAR