BEGIN:VCALENDAR
VERSION:2.0
PRODID:-//Gospel Agenda - ECPv4.9.13//NONSGML v1.0//EN
CALSCALE:GREGORIAN
METHOD:PUBLISH
X-ORIGINAL-URL:https://gospelagenda.org
X-WR-CALDESC:Events for Gospel Agenda
BEGIN:VTIMEZONE
TZID:Europe/Paris
BEGIN:DAYLIGHT
TZOFFSETFROM:+0100
TZOFFSETTO:+0200
TZNAME:CEST
DTSTART:20160327T010000
END:DAYLIGHT
BEGIN:STANDARD
TZOFFSETFROM:+0200
TZOFFSETTO:+0100
TZNAME:CET
DTSTART:20161030T010000
END:STANDARD
END:VTIMEZONE
BEGIN:VEVENT
DTSTART;TZID=Europe/Paris:20160910T100000
DTEND;TZID=Europe/Paris:20160910T160000
DTSTAMP:20260426T002033
CREATED:20160515T204939Z
LAST-MODIFIED:20160516T063727Z
UID:457-1473501600-1473523200@gospelagenda.org
SUMMARY:De Economie van het Koninkrijk
DESCRIPTION:Seminar ‘De economie van het Koninkrijk’ – deel 2\n\n\n\nMichiel Koelewijn & David de Vos \n\nVorig jaar gaf David de Vos samen met Michiel Koelewijn een seminar over de economie van het Koninkrijk van God. Hier waren we nog lang niet over uitgesproken. Vandaar dat er op zaterdag 10 september een tweede deel komt. \nHoe werkt Gods economie? Inmiddels heeft Michiel een boek over dit onderwerp geschreven en heeft David in het vorige seminar over geloofsprojecten verteld\, die nu in volle gang zijn. Ontdek nog meer over de economie van het Koninkrijk wanneer we nog dieper ingaan op het onderwerp. Verrijk je leven met Gods principes\, zodat je in Zijn gunst kunt wandelen! \nEr is ruimte voor het stellen van vragen en tussen de middag is er een heerlijke lunch. \nWe zien er naar uit je persoonlijk te ontmoeten! \nDe kosten voor deelname aan dit seminar bedragen 25 euro per persoon\, inclusief een uitgebreide lunch. \n \n\n\n
URL:https://gospelagenda.org/evenementen/de-economie-van-het-koninkrijk/
LOCATION:Stroud Putten\, Brinkstraat 91\, Puttern\, Gelderland\, 3881 BP\, Nederland
ATTACH;FMTTYPE=image/jpeg:https://gospelagenda.org/wp-content/uploads/2016/05/De-Economie-van-het-Koninkrijk.jpg
ORGANIZER;CN="Go%20and%20Tell":MAILTO:info@goandtell.nl
END:VEVENT
END:VCALENDAR