BEGIN:VCALENDAR
VERSION:2.0
PRODID:-//Gospel Agenda - ECPv4.9.13//NONSGML v1.0//EN
CALSCALE:GREGORIAN
METHOD:PUBLISH
X-ORIGINAL-URL:https://gospelagenda.org
X-WR-CALDESC:Events for Gospel Agenda
BEGIN:VTIMEZONE
TZID:Europe/Paris
BEGIN:DAYLIGHT
TZOFFSETFROM:+0100
TZOFFSETTO:+0200
TZNAME:CEST
DTSTART:20190331T010000
END:DAYLIGHT
BEGIN:STANDARD
TZOFFSETFROM:+0200
TZOFFSETTO:+0100
TZNAME:CET
DTSTART:20191027T010000
END:STANDARD
END:VTIMEZONE
BEGIN:VEVENT
DTSTART;TZID=Europe/Paris:20190425T193000
DTEND;TZID=Europe/Paris:20190425T230000
DTSTAMP:20260425T222014
CREATED:20190210T151056Z
LAST-MODIFIED:20190210T151339Z
UID:1734-1556220600-1556233200@gospelagenda.org
SUMMARY:Crown Event
DESCRIPTION:Crown Event\nEen geweldig feest\, ter ere van onze Koning! Op naar een verzoening tussen seculier en christelijk! Eindelijk een avondvullend evenement in de Alblasserwaard met Koninklijke Allure! Dit heeft de Alblasserwaard nodig! Positiviteit en vrolijkheid! That’s my GOD! \n\nLINE-UP\n\n\n\n\n\n\n\n\nInSalvation\n\n\nInSalvation is een band met hart voor aanbidding en gerechtigheid\, die ernaar verlangt om samen God te aanbidden\, feest te vieren en in Zijn aanwezigheid veranderd de wereld weer in te gaan. De band is opgericht in 2006 vanuit een groep jonge muzikanten met een hart voor Jezus en voor muziek. De band heeft in de jaren die volgde op veel kenmerkende plekken zoals Opwekking\, het Xnoizz Flevo Festival en de wervelweekenden van de EO gespeeld. Het maakt niet uit welke cultuur iemand komt\, de band gelooft dat er een wereldwijde passie ontstaat waarin we met elkaar de vrijheid ervaren. \n\n\nReyer\n\n\n\n\n\n\n\n\nReyer is fulltime muzikant. Hij is nu al een aantal jaar actief in de muziek als schrijver\, zanger en producer en bracht in het najaar 2014 zijn debuut album ‘Eeuwig Licht’ uit. \nHij heeft inmiddels een behoorlijke staat van dienst waaronder spelen op de EO Jongerendag\, samenwerken met Paul Baloche en Martin Smith en in 2015 zelfs een Zilveren Duif award ontvangen. Muziek is een groot deel van wie Reyer is; het is zijn beroep\, passie\, en hij weet niet wat ik zonder zou moeten. Toch is muziek op zichzelf nooit mijn grootste passie geweest. Voor mij krijgt muziek pas haar hoogste waarde als het een hoger doel dient…. \n\n\nKees Kraayenoord\, Mozaiek Worship\n\n\nKees Kraayenoord wist zich al op jonge leeftijd geroepen om met zijn stem en muziek mensen te leiden in Gods aanwezigheid. Hij studeerde aan de Azusa theologische hogeschool en stichtte samen met zijn vrouw Mozaiek0318 in Veenendaal\, een gemeente met als specifieke roeping de ontwikkeling van aanbidding en de toerusting van jonge aanbiddingsleiders in Nederland. Samen met Mozaiek Worship zal hij dit concert verzorgen. \nKees vertelt: “De aanbiddingsleider en songwriter Matt Redman zei: ‘The local church is the champions league for the worship leader’. Na jaren van reizen en on tour zijn ontdekte ik iets wat nu zo’n belangrijke waarde in ons leven is geworden: als aanbiddingsleider ben ik niet in eerste instantie geroepen om als artiest rond te reizen\, maar vooral om de kerk te dienen en Gods kinderen in Zijn aanwezigheid te leiden.” \n\n\nMind Connected\n\n\nDans en expressie is zeker iets wat goed past binnen het Crown Event. Daarom zijn we heel blij met de deelname van de dansgroep Mind Connected aan het Crown Event. \nDe groep verzorgt optredens op podia als Opwekking en Mission Net tot jeugdkerken in Nederland en evangelisatie projecten van YWAM. De groep zet zich graag in voor goede doelen\, zoals de dinnershow ‘Night of Joy’\, die ieder jaar mensen van de voedselbank een onvergetelijke avond bezorgt. \n \n\n
URL:https://gospelagenda.org/evenementen/crown-event/
LOCATION:V.V. Hardinxveld\, Sluisweg 131A\, Hardinxveld-Giessendam\, Zuid-Holland\, 3371 ET\, Nederland
CATEGORIES:Festivals,Jeugd,Praise & Worship
ATTACH;FMTTYPE=image/png:https://gospelagenda.org/wp-content/uploads/2019/02/190425-Crown-Event-De-Donk-Ministries.png
ORGANIZER;CN="De%20Donk%20Ministries":MAILTO:stichtingdedonk@gmail.com
END:VEVENT
END:VCALENDAR