BEGIN:VCALENDAR
VERSION:2.0
PRODID:-//Gospel Agenda - ECPv4.9.13//NONSGML v1.0//EN
CALSCALE:GREGORIAN
METHOD:PUBLISH
X-ORIGINAL-URL:https://gospelagenda.org
X-WR-CALDESC:Events for Gospel Agenda
BEGIN:VTIMEZONE
TZID:Europe/Paris
BEGIN:DAYLIGHT
TZOFFSETFROM:+0100
TZOFFSETTO:+0200
TZNAME:CEST
DTSTART:20190331T010000
END:DAYLIGHT
BEGIN:STANDARD
TZOFFSETFROM:+0200
TZOFFSETTO:+0100
TZNAME:CET
DTSTART:20191027T010000
END:STANDARD
END:VTIMEZONE
BEGIN:VEVENT
DTSTART;TZID=Europe/Paris:20190526T193000
DTEND;TZID=Europe/Paris:20190526T220000
DTSTAMP:20260425T210105
CREATED:20190508T135010Z
LAST-MODIFIED:20190508T135010Z
UID:3235-1558899000-1558908000@gospelagenda.org
SUMMARY:Couples Night met John & Helen Burns
DESCRIPTION:Couples Night met John & Helen Burns\nBen je getrouwd\, verloofd of heb je een echt serieuze relatie? Kom samen met je geliefde genieten van heerlijke hapjes en drankjes terwijl John en Helen Burns next level onderwijs verzorgen over liefde\, huwelijk\, intimiteit en communicatie. \nJohn en Helen Burns zijn Founding and Teaching pastors van Relate Church (Canada). Zij zijn echte experts op het gebied van relaties\, spreken hier wereldwijd over en hosten al jaren het tv-programma The Relate Show. \nDeze compleet verzorgde avond uit is een echte diepte-investering in je relatie! \nLet op: deze avond is grotendeels in het Engels. \n \nAanmelden\nMeld je aan via de organisatie van dit evenement. \n
URL:https://gospelagenda.org/evenementen/couples-night-met-john-helen-burns/
LOCATION:City Life Church Den Haag\, Escamplaan 280\, Den Haag\, Zuid-Holland\, 2547 GP\, Nederland
CATEGORIES:Anders,Man / Vrouw
ATTACH;FMTTYPE=image/jpeg:https://gospelagenda.org/wp-content/uploads/2019/05/Couples-Night-met-John-Helen-Burns.jpg
END:VEVENT
END:VCALENDAR