BEGIN:VCALENDAR
VERSION:2.0
PRODID:-//Gospel Agenda - ECPv4.9.13//NONSGML v1.0//EN
CALSCALE:GREGORIAN
METHOD:PUBLISH
X-ORIGINAL-URL:https://gospelagenda.org
X-WR-CALDESC:Events for Gospel Agenda
BEGIN:VTIMEZONE
TZID:Europe/Paris
BEGIN:DAYLIGHT
TZOFFSETFROM:+0100
TZOFFSETTO:+0200
TZNAME:CEST
DTSTART:20190331T010000
END:DAYLIGHT
BEGIN:STANDARD
TZOFFSETFROM:+0200
TZOFFSETTO:+0100
TZNAME:CET
DTSTART:20191027T010000
END:STANDARD
END:VTIMEZONE
BEGIN:VEVENT
DTSTART;TZID=Europe/Paris:20190525T103000
DTEND;TZID=Europe/Paris:20190527T213000
DTSTAMP:20260425T233646
CREATED:20190511T062756Z
LAST-MODIFIED:20190511T063428Z
UID:3270-1558780200-1558992600@gospelagenda.org
SUMMARY:Charis Open dagen
DESCRIPTION:Charis Open dagen\nGa op weg naar jouw bestemming! Door de Waarheid van het Woord te zaaien in je hart ga je zien wie je werkelijk bent en welk plan God heeft met jouw leven. Je kunt proeven aan het onderwijs\, studenten vertellen over hoe hun leven is veranderd op Charis Bible College\, hoe het dagelijkse studeren op school eruitziet en je kunt ook al je vragen stellen. \nVerder informeren we je over de wereldwijde bediening van Andrew Wommack Ministries en Charis Bible College. \nDe cappuccino staat voor je klaar! \nWe zien uit naar je komst. \nProgramma\n\n\nZaterdag 25 mei 2019 \n\n10.00 uur: Inloop\n10.30 uur: Welkom\n\nInformatie Charis Bible College\nOnderwijs Andrew Wommack (video)\n\n\n12:30 uur: Live les\n13.15 uur: Getuigenissen Studenten\n13.45 uur: Verzorgde lunch (gratis)\n14.00 uur: Afsluiting\n\nMaandag 27 mei 2019 \n\n18.00 uur: Inloop\n18.30 uur: Welkom\n\nontmoet studenten\n\n\n19.00 uur Live les\n20.00 uur:\n\nInformatie Charis Bible College\nOnderwijs Andrew Wommack (video)\n\n\n21.00 uur: Getuigenissen studenten\n21.30 uur: Afsluiting\n\n  \n\n\nAanmelden\nMeld je aan via de website van het evenement. \n  \n
URL:https://gospelagenda.org/evenementen/charis-open-dagen/
LOCATION:Charis Bible College\, Nikkelstraat 3A\, Naarden\, Noord-Holland\, 1411 AB\, Nederland
CATEGORIES:Anders,Training
ATTACH;FMTTYPE=image/jpeg:https://gospelagenda.org/wp-content/uploads/2019/05/Charis-Open-Dagen.jpg
ORGANIZER;CN="Charis%20Bible%20College":MAILTO:info.nl@awmcharis.vom
END:VEVENT
END:VCALENDAR