BEGIN:VCALENDAR
VERSION:2.0
PRODID:-//Gospel Agenda - ECPv4.9.13//NONSGML v1.0//EN
CALSCALE:GREGORIAN
METHOD:PUBLISH
X-ORIGINAL-URL:https://gospelagenda.org
X-WR-CALDESC:Events for Gospel Agenda
BEGIN:VTIMEZONE
TZID:Europe/Paris
BEGIN:DAYLIGHT
TZOFFSETFROM:+0100
TZOFFSETTO:+0200
TZNAME:CEST
DTSTART:20190331T010000
END:DAYLIGHT
BEGIN:STANDARD
TZOFFSETFROM:+0200
TZOFFSETTO:+0100
TZNAME:CET
DTSTART:20191027T010000
END:STANDARD
END:VTIMEZONE
BEGIN:VEVENT
DTSTART;TZID=Europe/Paris:20190629T120000
DTEND;TZID=Europe/Paris:20190629T173000
DTSTAMP:20260425T205201
CREATED:20190608T112118Z
LAST-MODIFIED:20190608T112218Z
UID:3691-1561809600-1561829400@gospelagenda.org
SUMMARY:Book Exposition 2019
DESCRIPTION:Book Exposition 2019\nAre you an established author? Do you want to write your own book? Do you want connections to turn your dreams into reality? Do you want a platform of visibility for your work? This exposition is to avail Christian authors a platform for visibility and eventual sales of there work\, programs and events. It will also be a great opportunity for potential authors to be empowered with great ideas for writing\, publishing and marketing. \nKeynote Speech\nTopic: -The relevance of Christian books in our generation \nSeminar 1\nTopic: -How to create your book \nSeminar 2\nTopic: -How to publish your promotion \nSeminar 3\nTopic: -How to use social media tools for book promotion \nIf you are an author and would like to take a stand to promote your books; for these and more information please send your email to\ninfo@tulipseminars.nl \n
URL:https://gospelagenda.org/evenementen/book-exposition-2019/
LOCATION:Claypot Church (Capelle aan den IJssel)\, Spoorlaan 2\, Capelle aan den IJssel\, Zuid-Holland\, 2908 BG\, Nederland
CATEGORIES:Conferenties
ATTACH;FMTTYPE=image/jpeg:https://gospelagenda.org/wp-content/uploads/2019/06/Book-Seminar-2019.jpg
ORGANIZER;CN="Tulip%20Seminars":MAILTO:info@tulipseminars.nl
END:VEVENT
END:VCALENDAR