BEGIN:VCALENDAR
VERSION:2.0
PRODID:-//Gospel Agenda - ECPv4.9.13//NONSGML v1.0//EN
CALSCALE:GREGORIAN
METHOD:PUBLISH
X-ORIGINAL-URL:https://gospelagenda.org
X-WR-CALDESC:Events for Gospel Agenda
BEGIN:VTIMEZONE
TZID:Europe/Paris
BEGIN:DAYLIGHT
TZOFFSETFROM:+0100
TZOFFSETTO:+0200
TZNAME:CEST
DTSTART:20190331T010000
END:DAYLIGHT
BEGIN:STANDARD
TZOFFSETFROM:+0200
TZOFFSETTO:+0100
TZNAME:CET
DTSTART:20191027T010000
END:STANDARD
END:VTIMEZONE
BEGIN:VEVENT
DTSTART;TZID=Europe/Paris:20190519T193000
DTEND;TZID=Europe/Paris:20190519T210000
DTSTAMP:20260425T233834
CREATED:20190406T115951Z
LAST-MODIFIED:20190406T115951Z
UID:2637-1558294200-1558299600@gospelagenda.org
SUMMARY:Bethel University met Ben Tiggelaar
DESCRIPTION:Bethel University met Ben Tiggelaar\n7 dingen die iedereen zou moeten weten over veranderen. \nOp 19 mei komt Dr. Ben Tiggelaar langs in Bethel voor een bijzondere Bethel University avond. Zijn verhaal gaat over menselijk gedrag en verandering. Hij gaat in op praktische inzichten uit gedragswetenschap die voor iedereen relevant zijn. Zoals: waarom vinden mensen veranderen zo moeilijk? En: wat zijn technieken die wél werken? \nBen Tiggelaar is onafhankelijk schrijver\, spreker en gedragswetenschapper. Hij studeert al ruim 30 jaar op de onderwerpen leiderschap en verandering. Bens boeken over veranderpsychologie -zoals ‘Dromen Durven Doen’- zijn bestsellers in binnen- en buitenland. Zijn seminar ‘MBA in één dag’ trok de afgelopen jaren alleen in Nederland al meer dan 17.600 managers. \nZijn passie is: mensen helpen om hun dromen in actie om te zetten. \nNa Bens verhaal is er de mogelijkheid om vragen te stellen.\nBethel University start om 19.30 uur en de toegang is gratis. \n(foto: Elisabeth Ismail) \n
URL:https://gospelagenda.org/evenementen/bethel-university-met-ben-tiggelaar/
LOCATION:Vrije Baptistengemeente Bethel\, De Bolder 75\, Drachten\, Friesland\, 9206 AP\, Netherlands
CATEGORIES:Anders,Leiderschap,Speciale Diensten
ATTACH;FMTTYPE=image/jpeg:https://gospelagenda.org/wp-content/uploads/2019/04/Bethel-University-Bert-Tiggelaar.jpg
ORGANIZER;CN="Vrije%20Baptistengemeente%20Bethel":MAILTO:https://www.bethel.nl/
END:VEVENT
END:VCALENDAR