BEGIN:VCALENDAR
VERSION:2.0
PRODID:-//Gospel Agenda - ECPv4.9.13//NONSGML v1.0//EN
CALSCALE:GREGORIAN
METHOD:PUBLISH
X-ORIGINAL-URL:https://gospelagenda.org
X-WR-CALDESC:Events for Gospel Agenda
BEGIN:VTIMEZONE
TZID:Europe/Helsinki
BEGIN:DAYLIGHT
TZOFFSETFROM:+0200
TZOFFSETTO:+0300
TZNAME:EEST
DTSTART:20190331T010000
END:DAYLIGHT
BEGIN:STANDARD
TZOFFSETFROM:+0300
TZOFFSETTO:+0200
TZNAME:EET
DTSTART:20191027T010000
END:STANDARD
END:VTIMEZONE
BEGIN:VEVENT
DTSTART;TZID=Europe/Helsinki:20191225T103000
DTEND;TZID=Europe/Helsinki:20191225T123000
DTSTAMP:20260425T190145
CREATED:20191223T001403Z
LAST-MODIFIED:20191223T235322Z
UID:4920-1577269800-1577277000@gospelagenda.org
SUMMARY:Beleef Kerst - Zoetermeer
DESCRIPTION:Beleef Kerst Zoetermeer\nVier kerst op één van de locaties van Levende Steen Ministries. Kom bijvoorbeeld naar LSM\, campus Zoetermeer. Met een krachtig Woord en fijne praise & worship. \n \n
URL:https://gospelagenda.org/evenementen/beleef-kerst-zoetermeer/
LOCATION:2B-Home (Zoetermeer)\, Dr. J. W. Paltelaan 103\, Zoetermeer\, Zuid-Holland\, 2712 PT\, Nederland
CATEGORIES:Anders,Ministry,Praise & Worship,Speciale Diensten
ATTACH;FMTTYPE=image/jpeg:https://gospelagenda.org/wp-content/uploads/2019/12/Beleef-Kerst-LSM.jpg
ORGANIZER;CN="Levende%20Steen%20Ministries":MAILTO:info@levendesteenministries.nl
END:VEVENT
END:VCALENDAR