BEGIN:VCALENDAR
VERSION:2.0
PRODID:-//Gospel Agenda - ECPv4.9.13//NONSGML v1.0//EN
CALSCALE:GREGORIAN
METHOD:PUBLISH
X-ORIGINAL-URL:https://gospelagenda.org
X-WR-CALDESC:Events for Gospel Agenda
BEGIN:VTIMEZONE
TZID:Europe/Helsinki
BEGIN:DAYLIGHT
TZOFFSETFROM:+0200
TZOFFSETTO:+0300
TZNAME:EEST
DTSTART:20200329T010000
END:DAYLIGHT
BEGIN:STANDARD
TZOFFSETFROM:+0300
TZOFFSETTO:+0200
TZNAME:EET
DTSTART:20201025T010000
END:STANDARD
END:VTIMEZONE
BEGIN:VEVENT
DTSTART;TZID=Europe/Helsinki:20200106T200000
DTEND;TZID=Europe/Helsinki:20200106T223000
DTSTAMP:20260425T173412
CREATED:20191031T121320Z
LAST-MODIFIED:20191031T121320Z
UID:4572-1578340800-1578349800@gospelagenda.org
SUMMARY:Basiscursus profetische bediening (deel 6)
DESCRIPTION:Basiscursus profetische bediening\nBlauw op het Rood: Basiscursus profetische bediening \n“Jaag de liefde na. Streef naar de gaven van de Heilige Geest\, maar vooral dat u mag profeteren.” 1 Korinthe 14:1 \nGod wil niets liever dan een goede relatie met Zijn kinderen. Een relatie kan niet bestaan zonder communicatie. In deze cursus gaan we onder leiding van de Heilige Geest uitstappen in profetische bediening. Wat dit betekent simpelweg; Gods stem verstaan voor jezelf en voor de mensen om je heen. \nWil je Gods stem (beter) leren verstaan\, Zijn leiding en bemoediging leren ontvangen? Wil jij gebruikt worden door God om zijn specifieke woorden door te geven? Wil jij leren omgaan met dromen en visioenen? Dan is deze cursus iets voor jou! \nAlgemene informatie\nIn verband met de opbouw van de training verwachten we dat je zoveel mogelijk\, doch liefst alle avonden aanwezig bent. \n\nTijd: maandagavond\, 20.00 – (max.) 22.30 uur\nData: 7 avonden – 18 nov\, 25 nov\, 2 dec\, 9 dec\, 16 dec\, 6 jan\, 13 jan\nToeruster: Hesli Nataniël\nKosten: € 35\,00 per persoon (inclusief werkboek)\nMeer info en aanmelden: http://www.nataniel.nl\n\n
URL:https://gospelagenda.org/evenementen/basiscursus-profetische-bediening-deel-6/
LOCATION:De Bron Eindhoven\, Elburglaan 51\, Eindhoven\, Noord-Brabant\, 5651 EH\, Nederland
CATEGORIES:Ministry,Training
ATTACH;FMTTYPE=image/png:https://gospelagenda.org/wp-content/uploads/2019/10/Basiscursus-profetische-bediening-Blauw-op-het-Rood.png
ORGANIZER;CN="Natani%C3%ABl%20Ministries":MAILTO:hesli@levty.nl
END:VEVENT
END:VCALENDAR