BEGIN:VCALENDAR
VERSION:2.0
PRODID:-//Gospel Agenda - ECPv4.9.13//NONSGML v1.0//EN
CALSCALE:GREGORIAN
METHOD:PUBLISH
X-ORIGINAL-URL:https://gospelagenda.org
X-WR-CALDESC:Events for Gospel Agenda
BEGIN:VTIMEZONE
TZID:Europe/Paris
BEGIN:DAYLIGHT
TZOFFSETFROM:+0100
TZOFFSETTO:+0200
TZNAME:CEST
DTSTART:20190331T010000
END:DAYLIGHT
BEGIN:STANDARD
TZOFFSETFROM:+0200
TZOFFSETTO:+0100
TZNAME:CET
DTSTART:20191027T010000
END:STANDARD
END:VTIMEZONE
BEGIN:VEVENT
DTSTART;TZID=Europe/Paris:20190303T190000
DTEND;TZID=Europe/Paris:20190303T213000
DTSTAMP:20260426T001929
CREATED:20190218T220729Z
LAST-MODIFIED:20190227T052818Z
UID:1918-1551639600-1551648600@gospelagenda.org
SUMMARY:Baan 7 - Maart
DESCRIPTION:Baan 7\nBaan7 is een plek om samen met heel veel toffe jongelui God te ontmoeten. Het is voor jongeren die God kennen en jongeren die Hem nog niet kennen. \nThema: Esther\nSpreker: Ando Geworgjan \n \n
URL:https://gospelagenda.org/evenementen/baan-7-maart/
LOCATION:Levend Evangelie Gemeente (LEG)\, Kruisweg 55 1436 CA\, Aalsmeerderbrug\, Noord-Holland\, 1436 CA\, Nederland
CATEGORIES:Jeugd,Praise & Worship
ATTACH;FMTTYPE=image/png:https://gospelagenda.org/wp-content/uploads/2019/01/Baan-7.png
ORGANIZER;CN="Baan%207":MAILTO:info@baan7.nl
END:VEVENT
END:VCALENDAR